BEGIN:VCALENDAR
VERSION:2.0
PRODID:-//FCLive//Events Calendar//EN
CALSCALE:GREGORIAN
METHOD:PUBLISH
X-WR-CALNAME:Zack McFarland Events
X-WR-TIMEZONE:UTC
BEGIN:VEVENT
UID:2983a7a0-15ff-4c32-a089-017087d9efe4@fclive
DTSTAMP:20260420T012955Z
DTSTART:20260417T210000Z
DTEND:20260418T000000Z
SUMMARY:Beach Bear Coastal
STATUS:CONFIRMED
END:VEVENT
BEGIN:VEVENT
UID:ec097925-9067-4bd8-bf2c-490024ff6c4e@fclive
DTSTAMP:20260420T012955Z
DTSTART:20260410T210000Z
DTEND:20260411T000000Z
SUMMARY:Beach Bear Coastal
STATUS:CONFIRMED
END:VEVENT
BEGIN:VEVENT
UID:8c3c313d-996a-49cf-9e74-4d600452d3f4@fclive
DTSTAMP:20260420T012955Z
DTSTART:20260419T000000Z
DTEND:20260419T030000Z
SUMMARY:TapRoot PSJ
STATUS:CONFIRMED
END:VEVENT
BEGIN:VEVENT
UID:ba3d6877-dbf4-4c2e-9c84-c10d87c049a5@fclive
DTSTAMP:20260420T012955Z
DTSTART:20260403T210000Z
DTEND:20260404T000000Z
SUMMARY:Beach Bear Coastal
STATUS:CONFIRMED
END:VEVENT
BEGIN:VEVENT
UID:04dbe505-5be4-458c-8e4d-ce5539ccb712@fclive
DTSTAMP:20260420T012955Z
DTSTART:20260424T210000Z
DTEND:20260425T000000Z
SUMMARY:Beach Bear Coastal
STATUS:CONFIRMED
END:VEVENT
END:VCALENDAR