BEGIN:VCALENDAR
VERSION:2.0
PRODID:-//FCLive//Events Calendar//EN
CALSCALE:GREGORIAN
METHOD:PUBLISH
X-WR-CALNAME:The Sevens Events
X-WR-TIMEZONE:UTC
BEGIN:VEVENT
UID:8951cf1a-a5c6-42ec-868b-6b408b81fde1@fclive
DTSTAMP:20260420T012337Z
DTSTART:20260410T230000Z
DTEND:20260411T020000Z
SUMMARY:American Legion Post 82
STATUS:CONFIRMED
END:VEVENT
BEGIN:VEVENT
UID:1af0eb39-c88d-4192-a1bd-e2a63dc0e044@fclive
DTSTAMP:20260420T012337Z
DTSTART:20260419T223000Z
DTEND:20260420T013000Z
SUMMARY:The Seineyard at Wildwood
STATUS:CONFIRMED
END:VEVENT
BEGIN:VEVENT
UID:18600707-1dec-4892-ac5d-a4b42c1ab9de@fclive
DTSTAMP:20260420T012337Z
DTSTART:20260502T230000Z
DTEND:20260503T020000Z
SUMMARY:St. James Bay Golf & Pickleball Resort
STATUS:CONFIRMED
END:VEVENT
BEGIN:VEVENT
UID:e40c8b05-4c5f-4040-85ec-7466b448751a@fclive
DTSTAMP:20260420T012337Z
DTSTART:20260621T223000Z
DTEND:20260622T013000Z
SUMMARY:The Seineyard at Wildwood
STATUS:CONFIRMED
END:VEVENT
END:VCALENDAR