BEGIN:VCALENDAR
VERSION:2.0
PRODID:-//FCLive//Events Calendar//EN
CALSCALE:GREGORIAN
METHOD:PUBLISH
X-WR-CALNAME:The Seineyard at Wildwood Events
X-WR-TIMEZONE:UTC
BEGIN:VEVENT
UID:6c0522d2-a1a7-4e5f-b577-0397688c0325@fclive
DTSTAMP:20260420T013122Z
DTSTART:20260404T233000Z
DTEND:20260405T023000Z
SUMMARY:Rick Ott Band
STATUS:CONFIRMED
END:VEVENT
BEGIN:VEVENT
UID:848c05d4-0b3a-4f76-a9fc-6c6f3dd739e5@fclive
DTSTAMP:20260420T013122Z
DTSTART:20260417T233000Z
DTEND:20260418T023000Z
SUMMARY:Big Poppa & the Shuffle Brothers
STATUS:CONFIRMED
END:VEVENT
BEGIN:VEVENT
UID:fcc90869-5a95-4538-ab68-81ab5e5ddfe0@fclive
DTSTAMP:20260420T013122Z
DTSTART:20260410T223000Z
DTEND:20260411T013000Z
SUMMARY:Kettle Black
STATUS:CONFIRMED
END:VEVENT
BEGIN:VEVENT
UID:d8ae265c-5b0b-428d-be20-a152a426277b@fclive
DTSTAMP:20260420T013122Z
DTSTART:20260412T223000Z
DTEND:20260413T013000Z
SUMMARY:Eric Pfeufer & friends
DESCRIPTION:Eric Pfeufer & friends
STATUS:CONFIRMED
END:VEVENT
BEGIN:VEVENT
UID:de114979-674b-47a2-9111-a838cffb65d5@fclive
DTSTAMP:20260420T013122Z
DTSTART:20260403T230000Z
DTEND:20260404T020000Z
SUMMARY:Eleven o Five
DESCRIPTION:Eleven o Five
STATUS:CONFIRMED
END:VEVENT
BEGIN:VEVENT
UID:f2673bb4-c02f-4417-8c98-ac46b830fb67@fclive
DTSTAMP:20260420T013122Z
DTSTART:20260418T233000Z
DTEND:20260419T023000Z
SUMMARY:CJ and the Deadmen
STATUS:CONFIRMED
END:VEVENT
BEGIN:VEVENT
UID:ebdcc539-a8f6-4c38-ad47-c14d32ccc9a0@fclive
DTSTAMP:20260420T013122Z
DTSTART:20260405T223000Z
DTEND:20260406T013000Z
SUMMARY:Double Take
STATUS:CONFIRMED
END:VEVENT
BEGIN:VEVENT
UID:e3aea944-8da4-4427-b329-cb156aba4cac@fclive
DTSTAMP:20260420T013122Z
DTSTART:20260411T233000Z
DTEND:20260412T023000Z
SUMMARY:The Allie Cats
STATUS:CONFIRMED
END:VEVENT
BEGIN:VEVENT
UID:1af0eb39-c88d-4192-a1bd-e2a63dc0e044@fclive
DTSTAMP:20260420T013122Z
DTSTART:20260419T223000Z
DTEND:20260420T013000Z
SUMMARY:The Sevens
STATUS:CONFIRMED
END:VEVENT
BEGIN:VEVENT
UID:e40c8b05-4c5f-4040-85ec-7466b448751a@fclive
DTSTAMP:20260420T013122Z
DTSTART:20260621T223000Z
DTEND:20260622T013000Z
SUMMARY:The Sevens
STATUS:CONFIRMED
END:VEVENT
END:VCALENDAR