BEGIN:VCALENDAR
VERSION:2.0
PRODID:-//FCLive//Events Calendar//EN
CALSCALE:GREGORIAN
METHOD:PUBLISH
X-WR-CALNAME:The Salty Donkey Events
X-WR-TIMEZONE:UTC
BEGIN:VEVENT
UID:20ff94d6-db49-45bf-bb69-2c2fb6cef9f9@fclive
DTSTAMP:20260420T013129Z
DTSTART:20260411T230000Z
DTEND:20260412T020000Z
SUMMARY:Mae West Band
STATUS:CONFIRMED
END:VEVENT
BEGIN:VEVENT
UID:35a596e8-4b14-49c1-93a9-44fe2375c269@fclive
DTSTAMP:20260420T013129Z
DTSTART:20260412T170000Z
DTEND:20260412T200000Z
SUMMARY:Robert Morris
STATUS:CONFIRMED
END:VEVENT
BEGIN:VEVENT
UID:fe00b3bc-fd74-41ea-9e11-47c5f641f83f@fclive
DTSTAMP:20260420T013129Z
DTSTART:20260403T220000Z
DTEND:20260404T010000Z
SUMMARY:Anna Wescoat
STATUS:CONFIRMED
END:VEVENT
BEGIN:VEVENT
UID:3b2e2f39-3626-4031-ad6a-88fb81ef9fc7@fclive
DTSTAMP:20260420T013129Z
DTSTART:20260418T230000Z
DTEND:20260419T020000Z
SUMMARY:Chris Ajhar
STATUS:CONFIRMED
END:VEVENT
BEGIN:VEVENT
UID:35a90963-2fc2-412d-8367-94253682b684@fclive
DTSTAMP:20260420T013129Z
DTSTART:20260405T170000Z
DTEND:20260405T200000Z
SUMMARY:Zack Mannino
STATUS:CONFIRMED
END:VEVENT
BEGIN:VEVENT
UID:530bb6d9-4b39-4cbf-880e-a5999698c14f@fclive
DTSTAMP:20260420T013129Z
DTSTART:20260418T230000Z
DTEND:20260419T020000Z
SUMMARY:Riviera Flats
STATUS:CONFIRMED
END:VEVENT
BEGIN:VEVENT
UID:420c4237-10c6-4169-8f37-ad7443f0035c@fclive
DTSTAMP:20260420T013129Z
DTSTART:20260404T230000Z
DTEND:20260405T020000Z
SUMMARY:Colton Kise
STATUS:CONFIRMED
END:VEVENT
BEGIN:VEVENT
UID:6aff53b9-efd1-4eee-a154-c74f1c06a4bb@fclive
DTSTAMP:20260420T013129Z
DTSTART:20260419T170000Z
DTEND:20260419T200000Z
SUMMARY:Zack Mannino
STATUS:CONFIRMED
END:VEVENT
BEGIN:VEVENT
UID:5eb09b66-216b-4574-9544-e0981bac1781@fclive
DTSTAMP:20260420T013129Z
DTSTART:20260410T220000Z
DTEND:20260411T010000Z
SUMMARY:Anna Wescoat
STATUS:CONFIRMED
END:VEVENT
END:VCALENDAR