BEGIN:VCALENDAR
VERSION:2.0
PRODID:-//FCLive//Events Calendar//EN
CALSCALE:GREGORIAN
METHOD:PUBLISH
X-WR-CALNAME:The Mill Mercantile & Social Events
X-WR-TIMEZONE:UTC
BEGIN:VEVENT
UID:453c9e86-b7e6-46c2-90e5-26cdb069651e@fclive
DTSTAMP:20260420T064524Z
DTSTART:20260425T230000Z
DTEND:20260426T020000Z
SUMMARY:John Sutton
STATUS:CONFIRMED
END:VEVENT
BEGIN:VEVENT
UID:d1351245-d891-4bc6-9d6e-54e1844d1f1d@fclive
DTSTAMP:20260420T064524Z
DTSTART:20260409T230000Z
DTEND:20260410T020000Z
SUMMARY:Kevin Presbrey
STATUS:CONFIRMED
END:VEVENT
BEGIN:VEVENT
UID:2fa70eac-7ad6-4ae3-b706-588433e997a3@fclive
DTSTAMP:20260420T064524Z
DTSTART:20260414T220000Z
DTEND:20260415T000000Z
SUMMARY:Singo
DESCRIPTION:Singo
STATUS:CONFIRMED
END:VEVENT
BEGIN:VEVENT
UID:2dfa6fdf-8d48-4c4b-bf10-5cf7efe86b79@fclive
DTSTAMP:20260420T064524Z
DTSTART:20260422T220000Z
DTEND:20260423T010000Z
SUMMARY:Bad Decisions
STATUS:CONFIRMED
END:VEVENT
BEGIN:VEVENT
UID:dee117b5-834a-4af3-84d3-90f4b611cf4e@fclive
DTSTAMP:20260420T064524Z
DTSTART:20260404T230000Z
DTEND:20260405T020000Z
SUMMARY:Mitchell Edwards
STATUS:CONFIRMED
END:VEVENT
BEGIN:VEVENT
UID:05013a0a-4f71-4bec-b78d-9b54f1d886a7@fclive
DTSTAMP:20260420T064524Z
DTSTART:20260403T230000Z
DTEND:20260404T020000Z
SUMMARY:Zach Lambert
STATUS:CONFIRMED
END:VEVENT
BEGIN:VEVENT
UID:16591214-7a45-418f-8a0e-9e4caf69618f@fclive
DTSTAMP:20260420T064524Z
DTSTART:20260428T220000Z
DTEND:20260429T000000Z
SUMMARY:Singo
DESCRIPTION:Singo
STATUS:CONFIRMED
END:VEVENT
BEGIN:VEVENT
UID:29a5ad8c-c7c9-4867-ab53-cdde3395ea50@fclive
DTSTAMP:20260420T064524Z
DTSTART:20260411T230000Z
DTEND:20260412T020000Z
SUMMARY:Andrew and Boone
STATUS:CONFIRMED
END:VEVENT
BEGIN:VEVENT
UID:deb75b0b-1b92-46d0-bef4-e587f7c5a7ad@fclive
DTSTAMP:20260420T064524Z
DTSTART:20260420T213000Z
DTEND:20260420T233000Z
SUMMARY:Mahjong at The Mill
DESCRIPTION:Mahjong at The Mill
STATUS:CONFIRMED
END:VEVENT
END:VCALENDAR