BEGIN:VCALENDAR
VERSION:2.0
PRODID:-//FCLive//Events Calendar//EN
CALSCALE:GREGORIAN
METHOD:PUBLISH
X-WR-CALNAME:The BrickWall Sports Bar & Grille Events
X-WR-TIMEZONE:UTC
BEGIN:VEVENT
UID:44eca8c4-dfe9-4b9c-bacd-08ff99ca59e7@fclive
DTSTAMP:20260420T063414Z
DTSTART:20260412T150000Z
DTEND:20260412T180000Z
SUMMARY:JJ Marquez
STATUS:CONFIRMED
END:VEVENT
BEGIN:VEVENT
UID:793ff64a-2de6-412d-a5e2-52440dc95089@fclive
DTSTAMP:20260420T063414Z
DTSTART:20260423T220000Z
DTEND:20260424T010000Z
SUMMARY:Leanne Carter
STATUS:CONFIRMED
END:VEVENT
BEGIN:VEVENT
UID:7d3ee613-2265-42ea-aee6-636283110fe6@fclive
DTSTAMP:20260420T063414Z
DTSTART:20260402T220000Z
DTEND:20260403T010000Z
SUMMARY:Jamie Commander
STATUS:CONFIRMED
END:VEVENT
BEGIN:VEVENT
UID:692721d4-7caa-4ce4-970a-77706809018f@fclive
DTSTAMP:20260420T063414Z
DTSTART:20260409T220000Z
DTEND:20260410T010000Z
SUMMARY:Leanne Carter
STATUS:CONFIRMED
END:VEVENT
BEGIN:VEVENT
UID:747f4052-cac1-451a-81b4-814cd2c30d99@fclive
DTSTAMP:20260420T063414Z
DTSTART:20260408T220000Z
DTEND:20260409T010000Z
SUMMARY:Jamie Commander
STATUS:CONFIRMED
END:VEVENT
BEGIN:VEVENT
UID:be538458-4c09-42c6-bd9e-911a588a9ac5@fclive
DTSTAMP:20260420T063414Z
DTSTART:20260426T150000Z
DTEND:20260426T180000Z
SUMMARY:JJ Marquez
STATUS:CONFIRMED
END:VEVENT
BEGIN:VEVENT
UID:93981e85-f22e-4082-a3d2-d9c8ae89ebe5@fclive
DTSTAMP:20260420T063414Z
DTSTART:20260405T150000Z
DTEND:20260405T180000Z
SUMMARY:JJ Marquez
STATUS:CONFIRMED
END:VEVENT
BEGIN:VEVENT
UID:5e03b3d3-6670-4640-bc35-eb9611a92869@fclive
DTSTAMP:20260420T063414Z
DTSTART:20260416T220000Z
DTEND:20260417T010000Z
SUMMARY:Sticky Tim
STATUS:CONFIRMED
END:VEVENT
BEGIN:VEVENT
UID:226c0d75-21f2-45a7-b013-5564656040d9@fclive
DTSTAMP:20260420T063414Z
DTSTART:20260531T150000Z
DTEND:20260531T180000Z
SUMMARY:JJ Marquez
STATUS:CONFIRMED
END:VEVENT
BEGIN:VEVENT
UID:e13e36be-01f4-4ce9-a025-695f05a82240@fclive
DTSTAMP:20260420T063414Z
DTSTART:20260503T150000Z
DTEND:20260503T180000Z
SUMMARY:JJ Marquez
STATUS:CONFIRMED
END:VEVENT
BEGIN:VEVENT
UID:fefcc1fd-d531-431f-bd83-fa29ab687e27@fclive
DTSTAMP:20260420T063414Z
DTSTART:20260517T150000Z
DTEND:20260517T180000Z
SUMMARY:JJ Marquez
STATUS:CONFIRMED
END:VEVENT
BEGIN:VEVENT
UID:87a0b4c9-9100-4d32-954b-6b86687aa3e1@fclive
DTSTAMP:20260420T063414Z
DTSTART:20260628T150000Z
DTEND:20260628T180000Z
SUMMARY:JJ Marquez
STATUS:CONFIRMED
END:VEVENT
BEGIN:VEVENT
UID:2c7cf36e-3192-452b-a47e-7e7a6d4a8463@fclive
DTSTAMP:20260420T063414Z
DTSTART:20260614T150000Z
DTEND:20260614T180000Z
SUMMARY:JJ Marquez
STATUS:CONFIRMED
END:VEVENT
BEGIN:VEVENT
UID:a646dfff-2cc0-47f5-9231-93833d282be3@fclive
DTSTAMP:20260420T063414Z
DTSTART:20260607T150000Z
DTEND:20260607T180000Z
SUMMARY:JJ Marquez
STATUS:CONFIRMED
END:VEVENT
END:VCALENDAR