BEGIN:VCALENDAR
VERSION:2.0
PRODID:-//FCLive//Events Calendar//EN
CALSCALE:GREGORIAN
METHOD:PUBLISH
X-WR-CALNAME:TapRoot PSJ Events
X-WR-TIMEZONE:UTC
BEGIN:VEVENT
UID:27f92f4b-7e86-42df-b885-1acca17fd629@fclive
DTSTAMP:20260420T012944Z
DTSTART:20260426T000000Z
DTEND:20260426T030000Z
SUMMARY:Sticky Tim
STATUS:CONFIRMED
END:VEVENT
BEGIN:VEVENT
UID:5c83932a-16a8-4915-b137-1d1a84811c5a@fclive
DTSTAMP:20260420T012944Z
DTSTART:20260412T000000Z
DTEND:20260412T030000Z
SUMMARY:Palm Breeze Karaoke
STATUS:CONFIRMED
END:VEVENT
BEGIN:VEVENT
UID:8309dc74-5e2c-4655-a2d8-2756ed480186@fclive
DTSTAMP:20260420T012944Z
DTSTART:20260405T000000Z
DTEND:20260405T030000Z
SUMMARY:Palm Breeze Karaoke
STATUS:CONFIRMED
END:VEVENT
BEGIN:VEVENT
UID:0231034a-42c8-47e2-a39c-401fdc68c875@fclive
DTSTAMP:20260420T012944Z
DTSTART:20260416T230000Z
DTEND:20260417T020000Z
SUMMARY:Palm Breeze Karaoke
STATUS:CONFIRMED
END:VEVENT
BEGIN:VEVENT
UID:693161fc-cd87-4025-a2fb-4352c0c226cd@fclive
DTSTAMP:20260420T012944Z
DTSTART:20260414T230000Z
DTEND:20260415T010000Z
SUMMARY:Sip & Paint
DESCRIPTION:Sip & Paint
STATUS:CONFIRMED
END:VEVENT
BEGIN:VEVENT
UID:8c3c313d-996a-49cf-9e74-4d600452d3f4@fclive
DTSTAMP:20260420T012944Z
DTSTART:20260419T000000Z
DTEND:20260419T030000Z
SUMMARY:Zack McFarland
STATUS:CONFIRMED
END:VEVENT
BEGIN:VEVENT
UID:a0acff91-7578-459e-83ae-512078776b9f@fclive
DTSTAMP:20260420T012944Z
DTSTART:20260411T000000Z
DTEND:20260411T030000Z
SUMMARY:Overload
STATUS:CONFIRMED
END:VEVENT
BEGIN:VEVENT
UID:a8f88c30-b147-4fc8-a8cd-6cf6d5c58e03@fclive
DTSTAMP:20260420T012944Z
DTSTART:20260404T000000Z
DTEND:20260404T030000Z
SUMMARY:Dani & The Chix Trio
DESCRIPTION:Dani & The Chix Trio
STATUS:CONFIRMED
END:VEVENT
BEGIN:VEVENT
UID:2f02a428-77b0-44f7-b2d2-98ff85a6fc6b@fclive
DTSTAMP:20260420T012944Z
DTSTART:20260409T233000Z
DTEND:20260410T023000Z
SUMMARY:The Curry’s
STATUS:CONFIRMED
END:VEVENT
BEGIN:VEVENT
UID:468ec701-d106-4c93-b76a-e052f9601e47@fclive
DTSTAMP:20260420T012944Z
DTSTART:20260418T000000Z
DTEND:20260418T030000Z
SUMMARY:Hunter Wall Band
STATUS:CONFIRMED
END:VEVENT
BEGIN:VEVENT
UID:66db13c3-c237-4d4d-b5a2-f1dfedd27c4a@fclive
DTSTAMP:20260420T012944Z
DTSTART:20260402T223000Z
DTEND:20260403T003000Z
SUMMARY:Trivia Night
DESCRIPTION:Trivia Night
STATUS:CONFIRMED
END:VEVENT
BEGIN:VEVENT
UID:2aabb7c6-5cef-48ec-8da1-f212e7c14498@fclive
DTSTAMP:20260420T012944Z
DTSTART:20260424T000000Z
DTEND:20260424T020000Z
SUMMARY:Palm Breeze Karaoke
STATUS:CONFIRMED
END:VEVENT
BEGIN:VEVENT
UID:3f7f73aa-f0ac-429c-8e08-f9647cf2ace0@fclive
DTSTAMP:20260420T012944Z
DTSTART:20260425T000000Z
DTEND:20260425T030000Z
SUMMARY:Scratch 2020
STATUS:CONFIRMED
END:VEVENT
BEGIN:VEVENT
UID:7c155c34-7c05-424d-886f-9e797dd43f99@fclive
DTSTAMP:20260420T012944Z
DTSTART:20260501T000000Z
DTEND:20260501T020000Z
SUMMARY:Palm Breeze Karaoke
STATUS:CONFIRMED
END:VEVENT
END:VCALENDAR