BEGIN:VCALENDAR
VERSION:2.0
PRODID:-//FCLive//Events Calendar//EN
CALSCALE:GREGORIAN
METHOD:PUBLISH
X-WR-CALNAME:Sticky Tim Events
X-WR-TIMEZONE:UTC
BEGIN:VEVENT
UID:27f92f4b-7e86-42df-b885-1acca17fd629@fclive
DTSTAMP:20260420T012252Z
DTSTART:20260426T000000Z
DTEND:20260426T030000Z
SUMMARY:TapRoot PSJ
STATUS:CONFIRMED
END:VEVENT
BEGIN:VEVENT
UID:929ff8f4-8718-4506-8eee-338f7a347b52@fclive
DTSTAMP:20260420T012252Z
DTSTART:20260423T220000Z
DTEND:20260424T010000Z
SUMMARY:Scallop RePUBlic
STATUS:CONFIRMED
END:VEVENT
BEGIN:VEVENT
UID:9c3532a4-036f-4d83-b6ed-448bc485fac1@fclive
DTSTAMP:20260420T012252Z
DTSTART:20260418T210000Z
DTEND:20260419T000000Z
SUMMARY:Belle's Winery and Saloon
STATUS:CONFIRMED
END:VEVENT
BEGIN:VEVENT
UID:90cfb348-4bd4-4671-8531-44af7c957ca6@fclive
DTSTAMP:20260420T012252Z
DTSTART:20260417T230000Z
DTEND:20260418T020000Z
SUMMARY:High Five Dive Bar
STATUS:CONFIRMED
END:VEVENT
BEGIN:VEVENT
UID:8579e4b7-100f-4a37-b1ec-5698f97f89fd@fclive
DTSTAMP:20260420T012252Z
DTSTART:20260430T230000Z
DTEND:20260501T020000Z
SUMMARY:Haughty Heron
STATUS:CONFIRMED
END:VEVENT
BEGIN:VEVENT
UID:09bcf03d-7464-400c-9531-7cd22868c7cf@fclive
DTSTAMP:20260420T012252Z
DTSTART:20260404T220000Z
DTEND:20260405T010000Z
SUMMARY:Red White & Brew
STATUS:CONFIRMED
END:VEVENT
BEGIN:VEVENT
UID:75304dcf-9a4d-4e9c-8b7d-932ed493a9ac@fclive
DTSTAMP:20260420T012252Z
DTSTART:20260401T220000Z
DTEND:20260402T010000Z
SUMMARY:Scallop RePUBlic
STATUS:CONFIRMED
END:VEVENT
BEGIN:VEVENT
UID:59728fbd-6289-418e-8f1f-b24b43767b25@fclive
DTSTAMP:20260420T012252Z
DTSTART:20260404T150000Z
DTEND:20260404T180000Z
SUMMARY:The Hitch
STATUS:CONFIRMED
END:VEVENT
BEGIN:VEVENT
UID:2ad7f40d-5326-42ca-8052-c5d01c82201d@fclive
DTSTAMP:20260420T012252Z
DTSTART:20260406T200000Z
DTEND:20260406T220000Z
SUMMARY:Apalachicola Yacht Club
STATUS:CONFIRMED
END:VEVENT
BEGIN:VEVENT
UID:5e03b3d3-6670-4640-bc35-eb9611a92869@fclive
DTSTAMP:20260420T012252Z
DTSTART:20260416T220000Z
DTEND:20260417T010000Z
SUMMARY:The BrickWall Sports Bar & Grille
STATUS:CONFIRMED
END:VEVENT
BEGIN:VEVENT
UID:2fb9134b-e25b-49fe-8562-f4ec90bf2f09@fclive
DTSTAMP:20260420T012252Z
DTSTART:20260419T180000Z
DTEND:20260419T220000Z
SUMMARY:Fathoms Restaurant
STATUS:CONFIRMED
END:VEVENT
END:VCALENDAR