BEGIN:VCALENDAR
VERSION:2.0
PRODID:-//FCLive//Events Calendar//EN
CALSCALE:GREGORIAN
METHOD:PUBLISH
X-WR-CALNAME:Stevie Monce Events
X-WR-TIMEZONE:UTC
BEGIN:VEVENT
UID:8a9150b6-e170-40d8-8a0c-d02703fd7d16@fclive
DTSTAMP:20260420T040144Z
DTSTART:20260404T000000Z
DTEND:20260404T020000Z
SUMMARY:Haughty Heron
STATUS:CONFIRMED
END:VEVENT
BEGIN:VEVENT
UID:a2a104d1-3d65-4fda-b931-57935b881e74@fclive
DTSTAMP:20260420T040144Z
DTSTART:20260502T000000Z
DTEND:20260502T030000Z
SUMMARY:Haughty Heron
STATUS:CONFIRMED
END:VEVENT
END:VCALENDAR