BEGIN:VCALENDAR
VERSION:2.0
PRODID:-//FCLive//Events Calendar//EN
CALSCALE:GREGORIAN
METHOD:PUBLISH
X-WR-CALNAME:St. James Bay Golf & Pickleball Resort Events
X-WR-TIMEZONE:UTC
BEGIN:VEVENT
UID:18600707-1dec-4892-ac5d-a4b42c1ab9de@fclive
DTSTAMP:20260420T035849Z
DTSTART:20260502T230000Z
DTEND:20260503T020000Z
SUMMARY:The Sevens
STATUS:CONFIRMED
END:VEVENT
END:VCALENDAR