BEGIN:VCALENDAR
VERSION:2.0
PRODID:-//FCLive//Events Calendar//EN
CALSCALE:GREGORIAN
METHOD:PUBLISH
X-WR-CALNAME:Sean Williams Events
X-WR-TIMEZONE:UTC
BEGIN:VEVENT
UID:992bcb15-5868-4d86-a1ea-2f023f353d76@fclive
DTSTAMP:20260420T040148Z
DTSTART:20260412T220000Z
DTEND:20260413T020000Z
SUMMARY:Paddy's Raw Bar
STATUS:CONFIRMED
END:VEVENT
BEGIN:VEVENT
UID:75e77904-8eb0-4d98-a665-6dd81b737351@fclive
DTSTAMP:20260420T040148Z
DTSTART:20260416T220000Z
DTEND:20260417T010000Z
SUMMARY:High Five Dive Bar
STATUS:CONFIRMED
END:VEVENT
BEGIN:VEVENT
UID:a942f2e8-f47f-4682-8c61-7c785324e180@fclive
DTSTAMP:20260420T040148Z
DTSTART:20260424T220000Z
DTEND:20260425T010000Z
SUMMARY:Mango Marley's
STATUS:CONFIRMED
END:VEVENT
BEGIN:VEVENT
UID:936e17a3-2463-4e28-af2c-8bc7e546f561@fclive
DTSTAMP:20260420T040148Z
DTSTART:20260405T220000Z
DTEND:20260406T020000Z
SUMMARY:Paddy's Raw Bar
STATUS:CONFIRMED
END:VEVENT
BEGIN:VEVENT
UID:40284115-1811-4bb6-9454-e8bc21757fdd@fclive
DTSTAMP:20260420T040148Z
DTSTART:20260429T220000Z
DTEND:20260430T010000Z
SUMMARY:Mango Marley's
STATUS:CONFIRMED
END:VEVENT
BEGIN:VEVENT
UID:03b0bbfe-766d-4410-9aad-ed9d054ddb4c@fclive
DTSTAMP:20260420T040148Z
DTSTART:20260409T220000Z
DTEND:20260410T010000Z
SUMMARY:High Five Dive Bar
STATUS:CONFIRMED
END:VEVENT
END:VCALENDAR