BEGIN:VCALENDAR
VERSION:2.0
PRODID:-//FCLive//Events Calendar//EN
CALSCALE:GREGORIAN
METHOD:PUBLISH
X-WR-CALNAME:Scratch 2020 Events
X-WR-TIMEZONE:UTC
BEGIN:VEVENT
UID:c037eec1-1012-4227-aa77-1c7cfed3ed88@fclive
DTSTAMP:20260420T012242Z
DTSTART:20260419T190000Z
DTEND:20260419T210000Z
SUMMARY:High Five Dive Bar
STATUS:CONFIRMED
END:VEVENT
BEGIN:VEVENT
UID:3f7f73aa-f0ac-429c-8e08-f9647cf2ace0@fclive
DTSTAMP:20260420T012242Z
DTSTART:20260425T000000Z
DTEND:20260425T030000Z
SUMMARY:TapRoot PSJ
STATUS:CONFIRMED
END:VEVENT
END:VCALENDAR