BEGIN:VCALENDAR
VERSION:2.0
PRODID:-//FCLive//Events Calendar//EN
CALSCALE:GREGORIAN
METHOD:PUBLISH
X-WR-CALNAME:Scallop RePUBlic Events
X-WR-TIMEZONE:UTC
BEGIN:VEVENT
UID:bceaf9f2-35c7-40e3-8510-2b3770ba2062@fclive
DTSTAMP:20260420T013051Z
DTSTART:20260419T210000Z
DTEND:20260420T000000Z
SUMMARY:Sunday Supper Club
DESCRIPTION:Sunday Supper Club
STATUS:CONFIRMED
END:VEVENT
BEGIN:VEVENT
UID:8d036b60-d5c9-4295-915e-3150bc9a3f5a@fclive
DTSTAMP:20260420T013051Z
DTSTART:20260424T220000Z
DTEND:20260425T010000Z
SUMMARY:Evan Barber & the Dead Gamblers
DESCRIPTION:Evan Barber & the Dead Gamblers
STATUS:CONFIRMED
END:VEVENT
BEGIN:VEVENT
UID:700a39de-bc75-4b31-b0ef-334d70ce362e@fclive
DTSTAMP:20260420T013051Z
DTSTART:20260417T220000Z
DTEND:20260418T010000Z
SUMMARY:Kaitlin L Smith
STATUS:CONFIRMED
END:VEVENT
BEGIN:VEVENT
UID:929ff8f4-8718-4506-8eee-338f7a347b52@fclive
DTSTAMP:20260420T013051Z
DTSTART:20260423T220000Z
DTEND:20260424T010000Z
SUMMARY:Sticky Tim
STATUS:CONFIRMED
END:VEVENT
BEGIN:VEVENT
UID:1a948aee-1ff1-46be-b013-522c33bd401b@fclive
DTSTAMP:20260420T013051Z
DTSTART:20260425T220000Z
DTEND:20260426T010000Z
SUMMARY:Hunter Wall
STATUS:CONFIRMED
END:VEVENT
BEGIN:VEVENT
UID:663246ec-9f18-47cf-991e-528b37f011ab@fclive
DTSTAMP:20260420T013051Z
DTSTART:20260405T213000Z
DTEND:20260405T233000Z
SUMMARY:Sunday Supper Club
DESCRIPTION:Sunday Supper Club
STATUS:CONFIRMED
END:VEVENT
BEGIN:VEVENT
UID:928cf3d9-8014-4332-bf18-6a30a6d501c3@fclive
DTSTAMP:20260420T013051Z
DTSTART:20260416T220000Z
DTEND:20260417T010000Z
SUMMARY:Lane Maury
STATUS:CONFIRMED
END:VEVENT
BEGIN:VEVENT
UID:3446fb14-79ff-457c-a2a9-70df97d5cc61@fclive
DTSTAMP:20260420T013051Z
DTSTART:20260409T220000Z
DTEND:20260410T010000Z
SUMMARY:Corey Hall
STATUS:CONFIRMED
END:VEVENT
BEGIN:VEVENT
UID:75304dcf-9a4d-4e9c-8b7d-932ed493a9ac@fclive
DTSTAMP:20260420T013051Z
DTSTART:20260401T220000Z
DTEND:20260402T010000Z
SUMMARY:Sticky Tim
STATUS:CONFIRMED
END:VEVENT
BEGIN:VEVENT
UID:6ee9e9dd-c929-40b5-b3ed-9765659491db@fclive
DTSTAMP:20260420T013051Z
DTSTART:20260404T220000Z
DTEND:20260405T010000Z
SUMMARY:Baby Gray
STATUS:CONFIRMED
END:VEVENT
BEGIN:VEVENT
UID:55dc4d35-f153-4101-ba1c-a008e18603a7@fclive
DTSTAMP:20260420T013051Z
DTSTART:20260410T220000Z
DTEND:20260411T010000Z
SUMMARY:Caleb King
STATUS:CONFIRMED
END:VEVENT
BEGIN:VEVENT
UID:3b534809-cedf-43b0-9642-a23311b150b0@fclive
DTSTAMP:20260420T013051Z
DTSTART:20260402T220000Z
DTEND:20260403T010000Z
SUMMARY:Lane Maury
STATUS:CONFIRMED
END:VEVENT
BEGIN:VEVENT
UID:aeb12c42-d593-427b-ac6b-b496d86af7c8@fclive
DTSTAMP:20260420T013051Z
DTSTART:20260414T220000Z
DTEND:20260415T000000Z
SUMMARY:Singo
DESCRIPTION:Singo
STATUS:CONFIRMED
END:VEVENT
BEGIN:VEVENT
UID:b58f5b7d-4f04-4a75-ae4c-c4b743ff1999@fclive
DTSTAMP:20260420T013051Z
DTSTART:20260418T220000Z
DTEND:20260419T010000Z
SUMMARY:Mario Speedwagon
STATUS:CONFIRMED
END:VEVENT
BEGIN:VEVENT
UID:6e3770e0-7999-4d67-a0d2-d23f4cdc9b74@fclive
DTSTAMP:20260420T013051Z
DTSTART:20260403T220000Z
DTEND:20260404T010000Z
SUMMARY:Evan Barber
STATUS:CONFIRMED
END:VEVENT
BEGIN:VEVENT
UID:f623bc1f-bea4-488b-93d5-e45175fa18fd@fclive
DTSTAMP:20260420T013051Z
DTSTART:20260408T220000Z
DTEND:20260409T010000Z
SUMMARY:Eric Ripper
STATUS:CONFIRMED
END:VEVENT
BEGIN:VEVENT
UID:167552f6-8eb5-413e-9f2e-ed1aa735b5a2@fclive
DTSTAMP:20260420T013051Z
DTSTART:20260411T220000Z
DTEND:20260412T010000Z
SUMMARY:Kevin Presbrey
STATUS:CONFIRMED
END:VEVENT
BEGIN:VEVENT
UID:0f420fd6-6283-4464-8cc6-fc4da287930e@fclive
DTSTAMP:20260420T013051Z
DTSTART:20260430T220000Z
DTEND:20260501T010000Z
SUMMARY:Leanne Carter
STATUS:CONFIRMED
END:VEVENT
BEGIN:VEVENT
UID:8aef2730-d005-44ad-bca6-833380061fbb@fclive
DTSTAMP:20260420T013051Z
DTSTART:20260507T220000Z
DTEND:20260508T010000Z
SUMMARY:John Sutton
STATUS:CONFIRMED
END:VEVENT
BEGIN:VEVENT
UID:d5ffc506-9e70-46ad-b68e-a4fc25132129@fclive
DTSTAMP:20260420T013051Z
DTSTART:20260508T220000Z
DTEND:20260509T010000Z
SUMMARY:Kaitlin L Smith
STATUS:CONFIRMED
END:VEVENT
BEGIN:VEVENT
UID:ea7f63d3-f7cf-444c-b93a-ad2bc32379e5@fclive
DTSTAMP:20260420T013051Z
DTSTART:20260501T230000Z
DTEND:20260502T020000Z
SUMMARY:Bo Spring Band
STATUS:CONFIRMED
END:VEVENT
END:VCALENDAR