BEGIN:VCALENDAR
VERSION:2.0
PRODID:-//FCLive//Events Calendar//EN
CALSCALE:GREGORIAN
METHOD:PUBLISH
X-WR-CALNAME:Sawgrass Zoo Events
X-WR-TIMEZONE:UTC
BEGIN:VEVENT
UID:46280f25-7284-43ef-93dd-6e0014ebab24@fclive
DTSTAMP:20260420T042252Z
DTSTART:20260524T220000Z
DTEND:20260525T010000Z
SUMMARY:Ouzts' Too Oyster Bar & Grill
STATUS:CONFIRMED
END:VEVENT
BEGIN:VEVENT
UID:46d01f84-1c44-45a8-94d8-74653a43f4d5@fclive
DTSTAMP:20260420T042252Z
DTSTART:20260502T230000Z
DTEND:20260503T020000Z
SUMMARY:Fathoms Restaurant
STATUS:CONFIRMED
END:VEVENT
END:VCALENDAR