BEGIN:VCALENDAR
VERSION:2.0
PRODID:-//FCLive//Events Calendar//EN
CALSCALE:GREGORIAN
METHOD:PUBLISH
X-WR-CALNAME:Rylee Austin Events
X-WR-TIMEZONE:UTC
BEGIN:VEVENT
UID:23be465f-ac62-4c42-b19d-6a13387cf745@fclive
DTSTAMP:20260420T040914Z
DTSTART:20260609T220000Z
DTEND:20260610T010000Z
SUMMARY:Indian Pass Raw Bar
STATUS:CONFIRMED
END:VEVENT
END:VCALENDAR