BEGIN:VCALENDAR
VERSION:2.0
PRODID:-//FCLive//Events Calendar//EN
CALSCALE:GREGORIAN
METHOD:PUBLISH
X-WR-CALNAME:Riley Anderson Events
X-WR-TIMEZONE:UTC
BEGIN:VEVENT
UID:17c9b7ae-b7b7-4af0-b449-15be7652029f@fclive
DTSTAMP:20260420T041634Z
DTSTART:20260503T000000Z
DTEND:20260503T020000Z
SUMMARY:Haughty Heron
STATUS:CONFIRMED
END:VEVENT
END:VCALENDAR