BEGIN:VCALENDAR
VERSION:2.0
PRODID:-//FCLive//Events Calendar//EN
CALSCALE:GREGORIAN
METHOD:PUBLISH
X-WR-CALNAME:Red White & Brew Events
X-WR-TIMEZONE:UTC
BEGIN:VEVENT
UID:bbafabf4-e65f-40cf-874f-02d097c473d4@fclive
DTSTAMP:20260420T040153Z
DTSTART:20260425T220000Z
DTEND:20260426T010000Z
SUMMARY:Martin Rodriguez
STATUS:CONFIRMED
END:VEVENT
BEGIN:VEVENT
UID:f3462f66-cfb7-4468-87f8-65076c28d0ac@fclive
DTSTAMP:20260420T040153Z
DTSTART:20260408T210000Z
DTEND:20260409T000000Z
SUMMARY:Leanne Carter
STATUS:CONFIRMED
END:VEVENT
BEGIN:VEVENT
UID:d8af8913-3ef9-4e99-bfab-7c31eeb4ce96@fclive
DTSTAMP:20260420T040153Z
DTSTART:20260424T220000Z
DTEND:20260425T010000Z
SUMMARY:Barry BigBear Henson
STATUS:CONFIRMED
END:VEVENT
BEGIN:VEVENT
UID:09bcf03d-7464-400c-9531-7cd22868c7cf@fclive
DTSTAMP:20260420T040153Z
DTSTART:20260404T220000Z
DTEND:20260405T010000Z
SUMMARY:Sticky Tim
STATUS:CONFIRMED
END:VEVENT
BEGIN:VEVENT
UID:5fcf9fcb-e7ae-4540-930e-93577bfa88fd@fclive
DTSTAMP:20260420T040153Z
DTSTART:20260410T220000Z
DTEND:20260411T010000Z
SUMMARY:Andrew Carpenter
DESCRIPTION:Andrew Carpenter
STATUS:CONFIRMED
END:VEVENT
BEGIN:VEVENT
UID:30d301b9-a7ed-41ce-bdc1-a26a1854d53d@fclive
DTSTAMP:20260420T040153Z
DTSTART:20260403T220000Z
DTEND:20260404T010000Z
SUMMARY:Lane Maury
STATUS:CONFIRMED
END:VEVENT
BEGIN:VEVENT
UID:37829465-a2c9-405e-bcd4-c33203e57ad9@fclive
DTSTAMP:20260420T040153Z
DTSTART:20260422T210000Z
DTEND:20260423T000000Z
SUMMARY:Leanne Carter
STATUS:CONFIRMED
END:VEVENT
BEGIN:VEVENT
UID:29fc02fd-c1da-47e3-b8ce-e0be768e09b7@fclive
DTSTAMP:20260420T040153Z
DTSTART:20260418T220000Z
DTEND:20260419T010000Z
SUMMARY:Hunter Wall
STATUS:CONFIRMED
END:VEVENT
BEGIN:VEVENT
UID:65e9b76a-c4e7-4672-870c-e294d0fdf1a8@fclive
DTSTAMP:20260420T040153Z
DTSTART:20260417T220000Z
DTEND:20260418T010000Z
SUMMARY:Mitchell Edwards
STATUS:CONFIRMED
END:VEVENT
BEGIN:VEVENT
UID:65ccc91d-a8cf-4cea-a4d3-f6faf2084b12@fclive
DTSTAMP:20260420T040153Z
DTSTART:20260411T220000Z
DTEND:20260412T010000Z
SUMMARY:Otha Allen Jr
STATUS:CONFIRMED
END:VEVENT
END:VCALENDAR