BEGIN:VCALENDAR
VERSION:2.0
PRODID:-//FCLive//Events Calendar//EN
CALSCALE:GREGORIAN
METHOD:PUBLISH
X-WR-CALNAME:Public Address Events
X-WR-TIMEZONE:UTC
BEGIN:VEVENT
UID:ea9ab9f8-49ac-4808-a758-1677b4de337a@fclive
DTSTAMP:20260420T035529Z
DTSTART:20260426T190000Z
DTEND:20260426T220000Z
SUMMARY:Ouzts' Too Oyster Bar & Grill
STATUS:CONFIRMED
END:VEVENT
BEGIN:VEVENT
UID:50be31b5-8c02-4083-b9b7-518c455285fd@fclive
DTSTAMP:20260420T035529Z
DTSTART:20260417T230000Z
DTEND:20260418T030000Z
SUMMARY:Fathoms Restaurant
STATUS:CONFIRMED
END:VEVENT
END:VCALENDAR