BEGIN:VCALENDAR
VERSION:2.0
PRODID:-//FCLive//Events Calendar//EN
CALSCALE:GREGORIAN
METHOD:PUBLISH
X-WR-CALNAME:Palm Breeze Karaoke Events
X-WR-TIMEZONE:UTC
BEGIN:VEVENT
UID:5c83932a-16a8-4915-b137-1d1a84811c5a@fclive
DTSTAMP:20260420T040313Z
DTSTART:20260412T000000Z
DTEND:20260412T030000Z
SUMMARY:TapRoot PSJ
STATUS:CONFIRMED
END:VEVENT
BEGIN:VEVENT
UID:8309dc74-5e2c-4655-a2d8-2756ed480186@fclive
DTSTAMP:20260420T040313Z
DTSTART:20260405T000000Z
DTEND:20260405T030000Z
SUMMARY:TapRoot PSJ
STATUS:CONFIRMED
END:VEVENT
BEGIN:VEVENT
UID:0231034a-42c8-47e2-a39c-401fdc68c875@fclive
DTSTAMP:20260420T040313Z
DTSTART:20260416T230000Z
DTEND:20260417T020000Z
SUMMARY:TapRoot PSJ
STATUS:CONFIRMED
END:VEVENT
BEGIN:VEVENT
UID:27b5d51b-8036-4e00-82d9-67f88380b214@fclive
DTSTAMP:20260420T040313Z
DTSTART:20260404T000000Z
DTEND:20260404T030000Z
SUMMARY:St. Joe Bar & Package
STATUS:CONFIRMED
END:VEVENT
BEGIN:VEVENT
UID:74b7f78e-5054-490f-967b-7442c74281e3@fclive
DTSTAMP:20260420T040313Z
DTSTART:20260418T000000Z
DTEND:20260418T030000Z
SUMMARY:St. Joe Bar & Package
STATUS:CONFIRMED
END:VEVENT
BEGIN:VEVENT
UID:2aabb7c6-5cef-48ec-8da1-f212e7c14498@fclive
DTSTAMP:20260420T040313Z
DTSTART:20260424T000000Z
DTEND:20260424T020000Z
SUMMARY:TapRoot PSJ
STATUS:CONFIRMED
END:VEVENT
BEGIN:VEVENT
UID:7c155c34-7c05-424d-886f-9e797dd43f99@fclive
DTSTAMP:20260420T040313Z
DTSTART:20260501T000000Z
DTEND:20260501T020000Z
SUMMARY:TapRoot PSJ
STATUS:CONFIRMED
END:VEVENT
END:VCALENDAR