BEGIN:VCALENDAR
VERSION:2.0
PRODID:-//FCLive//Events Calendar//EN
CALSCALE:GREGORIAN
METHOD:PUBLISH
X-WR-CALNAME:Paddy's Raw Bar Events
X-WR-TIMEZONE:UTC
BEGIN:VEVENT
UID:3e957575-84a7-49d2-b7ec-0ff2848c52f8@fclive
DTSTAMP:20260420T012955Z
DTSTART:20260404T160000Z
DTEND:20260404T200000Z
SUMMARY:Ryan Keefe
STATUS:CONFIRMED
END:VEVENT
BEGIN:VEVENT
UID:1909869c-fc3f-4cbf-9fd4-10dcf0dc4166@fclive
DTSTAMP:20260420T012955Z
DTSTART:20260418T220000Z
DTEND:20260419T020000Z
SUMMARY:Zack Mannino
STATUS:CONFIRMED
END:VEVENT
BEGIN:VEVENT
UID:992bcb15-5868-4d86-a1ea-2f023f353d76@fclive
DTSTAMP:20260420T012955Z
DTSTART:20260412T220000Z
DTEND:20260413T020000Z
SUMMARY:Sean Williams
STATUS:CONFIRMED
END:VEVENT
BEGIN:VEVENT
UID:27f377a5-ede1-4550-8e8d-4531e985d188@fclive
DTSTAMP:20260420T012955Z
DTSTART:20260418T170000Z
DTEND:20260418T210000Z
SUMMARY:Wickid Smooth
STATUS:CONFIRMED
END:VEVENT
BEGIN:VEVENT
UID:0bc5394f-6cff-4d15-a066-631deed4ea85@fclive
DTSTAMP:20260420T012955Z
DTSTART:20260419T210000Z
DTEND:20260420T010000Z
SUMMARY:Kristie Kraus
STATUS:CONFIRMED
END:VEVENT
BEGIN:VEVENT
UID:9941800e-e656-4601-b5c2-72d5c643fbe1@fclive
DTSTAMP:20260420T012955Z
DTSTART:20260402T220000Z
DTEND:20260403T020000Z
SUMMARY:Joshua Travis
STATUS:CONFIRMED
END:VEVENT
BEGIN:VEVENT
UID:936e17a3-2463-4e28-af2c-8bc7e546f561@fclive
DTSTAMP:20260420T012955Z
DTSTART:20260405T220000Z
DTEND:20260406T020000Z
SUMMARY:Sean Williams
STATUS:CONFIRMED
END:VEVENT
BEGIN:VEVENT
UID:756027e4-66a0-488a-a631-b35f169cfe3f@fclive
DTSTAMP:20260420T012955Z
DTSTART:20260407T220000Z
DTEND:20260408T020000Z
SUMMARY:Joshua Travis
STATUS:CONFIRMED
END:VEVENT
BEGIN:VEVENT
UID:f8be43d5-9a2b-495e-8faf-b5ee799fce96@fclive
DTSTAMP:20260420T012955Z
DTSTART:20260414T220000Z
DTEND:20260415T010000Z
SUMMARY:Brown Goose
DESCRIPTION:Brown Goose
STATUS:CONFIRMED
END:VEVENT
BEGIN:VEVENT
UID:4ff5ccf1-fe4e-40dd-9437-c19b46865b9f@fclive
DTSTAMP:20260420T012955Z
DTSTART:20260408T190000Z
DTEND:20260408T230000Z
SUMMARY:Joshua Travis
STATUS:CONFIRMED
END:VEVENT
BEGIN:VEVENT
UID:16fdf451-568f-4bb1-a290-d091262fb255@fclive
DTSTAMP:20260420T012955Z
DTSTART:20260403T220000Z
DTEND:20260404T020000Z
SUMMARY:Joshua Travis
STATUS:CONFIRMED
END:VEVENT
BEGIN:VEVENT
UID:8283fc2a-9f3e-48bc-91dc-e2fda3d36a97@fclive
DTSTAMP:20260420T012955Z
DTSTART:20260409T220000Z
DTEND:20260410T010000Z
SUMMARY:Dueling Pianos
DESCRIPTION:Dueling Pianos
STATUS:CONFIRMED
END:VEVENT
BEGIN:VEVENT
UID:83d5e832-a33f-446f-8c7e-fbdc738cffb6@fclive
DTSTAMP:20260420T012955Z
DTSTART:20260411T230000Z
DTEND:20260412T030000Z
SUMMARY:Mind Plays
STATUS:CONFIRMED
END:VEVENT
END:VCALENDAR