BEGIN:VCALENDAR
VERSION:2.0
PRODID:-//FCLive//Events Calendar//EN
CALSCALE:GREGORIAN
METHOD:PUBLISH
X-WR-CALNAME:Ouzts' Too Oyster Bar & Grill Events
X-WR-TIMEZONE:UTC
BEGIN:VEVENT
UID:fdda6c24-7c89-4f1d-8f17-096e7115d75d@fclive
DTSTAMP:20260420T012825Z
DTSTART:20260412T220000Z
DTEND:20260413T010000Z
SUMMARY:RoadHouse
STATUS:CONFIRMED
END:VEVENT
BEGIN:VEVENT
UID:ea9ab9f8-49ac-4808-a758-1677b4de337a@fclive
DTSTAMP:20260420T012825Z
DTSTART:20260426T190000Z
DTEND:20260426T220000Z
SUMMARY:Public Address
STATUS:CONFIRMED
END:VEVENT
BEGIN:VEVENT
UID:2d74e72e-2dbc-4dbd-96a4-881c4f65931a@fclive
DTSTAMP:20260420T012825Z
DTSTART:20260405T220000Z
DTEND:20260406T010000Z
SUMMARY:Lick My Frog
STATUS:CONFIRMED
END:VEVENT
BEGIN:VEVENT
UID:732605c0-8837-4104-a8cf-fe8c0dd574fd@fclive
DTSTAMP:20260420T012825Z
DTSTART:20260419T190000Z
DTEND:20260419T220000Z
SUMMARY:Lunar Urge
STATUS:CONFIRMED
END:VEVENT
BEGIN:VEVENT
UID:46280f25-7284-43ef-93dd-6e0014ebab24@fclive
DTSTAMP:20260420T012825Z
DTSTART:20260524T220000Z
DTEND:20260525T010000Z
SUMMARY:Sawgrass Zoo
STATUS:CONFIRMED
END:VEVENT
BEGIN:VEVENT
UID:3508d94b-d4fd-456d-a1fb-05478e735c8f@fclive
DTSTAMP:20260420T012825Z
DTSTART:20260607T190000Z
DTEND:20260607T220000Z
SUMMARY:Too much fun day
DESCRIPTION:Too much fun day
STATUS:CONFIRMED
END:VEVENT
END:VCALENDAR