BEGIN:VCALENDAR
VERSION:2.0
PRODID:-//FCLive//Events Calendar//EN
CALSCALE:GREGORIAN
METHOD:PUBLISH
X-WR-CALNAME:Mind Plays Events
X-WR-TIMEZONE:UTC
BEGIN:VEVENT
UID:83d5e832-a33f-446f-8c7e-fbdc738cffb6@fclive
DTSTAMP:20260420T040919Z
DTSTART:20260411T230000Z
DTEND:20260412T030000Z
SUMMARY:Paddy's Raw Bar
STATUS:CONFIRMED
END:VEVENT
BEGIN:VEVENT
UID:cf0aac6d-b25b-46c7-9d25-fb095d582c0d@fclive
DTSTAMP:20260420T040919Z
DTSTART:20260612T230000Z
DTEND:20260613T020000Z
SUMMARY:Lookout Lounge & Package
STATUS:CONFIRMED
END:VEVENT
END:VCALENDAR