BEGIN:VCALENDAR
VERSION:2.0
PRODID:-//FCLive//Events Calendar//EN
CALSCALE:GREGORIAN
METHOD:PUBLISH
X-WR-CALNAME:Martin Rodriguez Events
X-WR-TIMEZONE:UTC
BEGIN:VEVENT
UID:bbafabf4-e65f-40cf-874f-02d097c473d4@fclive
DTSTAMP:20260420T063617Z
DTSTART:20260425T220000Z
DTEND:20260426T010000Z
SUMMARY:Red White & Brew
STATUS:CONFIRMED
END:VEVENT
END:VCALENDAR