BEGIN:VCALENDAR
VERSION:2.0
PRODID:-//FCLive//Events Calendar//EN
CALSCALE:GREGORIAN
METHOD:PUBLISH
X-WR-CALNAME:Mango Marley's Events
X-WR-TIMEZONE:UTC
BEGIN:VEVENT
UID:a942f2e8-f47f-4682-8c61-7c785324e180@fclive
DTSTAMP:20260420T012938Z
DTSTART:20260424T220000Z
DTEND:20260425T010000Z
SUMMARY:Sean Williams
STATUS:CONFIRMED
END:VEVENT
BEGIN:VEVENT
UID:40284115-1811-4bb6-9454-e8bc21757fdd@fclive
DTSTAMP:20260420T012938Z
DTSTART:20260429T220000Z
DTEND:20260430T010000Z
SUMMARY:Sean Williams
STATUS:CONFIRMED
END:VEVENT
END:VCALENDAR