BEGIN:VCALENDAR
VERSION:2.0
PRODID:-//FCLive//Events Calendar//EN
CALSCALE:GREGORIAN
METHOD:PUBLISH
X-WR-CALNAME:Lookout Lounge & Package Events
X-WR-TIMEZONE:UTC
BEGIN:VEVENT
UID:a1256290-ca07-4351-ad3a-5abf3190c3b1@fclive
DTSTAMP:20260420T013129Z
DTSTART:20260418T220000Z
DTEND:20260419T010000Z
SUMMARY:Salt Rock Revival
STATUS:CONFIRMED
END:VEVENT
BEGIN:VEVENT
UID:018e53fe-0ae7-4ea6-b922-87d07e0ab514@fclive
DTSTAMP:20260420T013129Z
DTSTART:20260419T210000Z
DTEND:20260420T000000Z
SUMMARY:Barry BigBear Henson
STATUS:CONFIRMED
END:VEVENT
BEGIN:VEVENT
UID:2904571a-7df0-4711-8c90-90c803381eab@fclive
DTSTAMP:20260420T013129Z
DTSTART:20260407T230000Z
DTEND:20260408T010000Z
SUMMARY:Killer Pool Tournament
DESCRIPTION:Killer Pool Tournament
STATUS:CONFIRMED
END:VEVENT
BEGIN:VEVENT
UID:b07b185d-9688-49e7-a381-9587a6d45051@fclive
DTSTAMP:20260420T013129Z
DTSTART:20260417T230000Z
DTEND:20260418T020000Z
SUMMARY:Mae West Band
STATUS:CONFIRMED
END:VEVENT
BEGIN:VEVENT
UID:51141658-8383-490b-ac17-b21c792a7181@fclive
DTSTAMP:20260420T013129Z
DTSTART:20260405T210000Z
DTEND:20260406T000000Z
SUMMARY:Barry BigBear Henson
STATUS:CONFIRMED
END:VEVENT
BEGIN:VEVENT
UID:cbfc4347-3f37-4a0a-9e17-d00fcfcd9deb@fclive
DTSTAMP:20260420T013129Z
DTSTART:20260425T220000Z
DTEND:20260426T010000Z
SUMMARY:Dashboard Chihuahuas
STATUS:CONFIRMED
END:VEVENT
BEGIN:VEVENT
UID:21bbbf27-9fc3-47d7-98ec-38728a1ae80b@fclive
DTSTAMP:20260420T013129Z
DTSTART:20260502T220000Z
DTEND:20260503T010000Z
SUMMARY:Baby Gray
STATUS:CONFIRMED
END:VEVENT
BEGIN:VEVENT
UID:b78a38c9-8a65-4470-85a2-adace4f4cec3@fclive
DTSTAMP:20260420T013129Z
DTSTART:20260620T220000Z
DTEND:20260621T010000Z
SUMMARY:Jason Byrd
STATUS:CONFIRMED
END:VEVENT
BEGIN:VEVENT
UID:cf0aac6d-b25b-46c7-9d25-fb095d582c0d@fclive
DTSTAMP:20260420T013129Z
DTSTART:20260612T230000Z
DTEND:20260613T020000Z
SUMMARY:Mind Plays
STATUS:CONFIRMED
END:VEVENT
BEGIN:VEVENT
UID:b59b974e-8869-456e-a6f2-fc81fe802703@fclive
DTSTAMP:20260420T013129Z
DTSTART:20260606T220000Z
DTEND:20260607T010000Z
SUMMARY:Baby Gray
STATUS:CONFIRMED
END:VEVENT
END:VCALENDAR