BEGIN:VCALENDAR
VERSION:2.0
PRODID:-//FCLive//Events Calendar//EN
CALSCALE:GREGORIAN
METHOD:PUBLISH
X-WR-CALNAME:Lloyd Carter Events
X-WR-TIMEZONE:UTC
BEGIN:VEVENT
UID:0235a228-ff14-43b8-b3ae-db304e6dd774@fclive
DTSTAMP:20260420T040528Z
DTSTART:20260422T220000Z
DTEND:20260423T010000Z
SUMMARY:Indian Pass Raw Bar
DESCRIPTION:Lloyd Carter Duo
STATUS:CONFIRMED
END:VEVENT
END:VCALENDAR