BEGIN:VCALENDAR
VERSION:2.0
PRODID:-//FCLive//Events Calendar//EN
CALSCALE:GREGORIAN
METHOD:PUBLISH
X-WR-CALNAME:Leanne Carter Events
X-WR-TIMEZONE:UTC
BEGIN:VEVENT
UID:793ff64a-2de6-412d-a5e2-52440dc95089@fclive
DTSTAMP:20260420T040024Z
DTSTART:20260423T220000Z
DTEND:20260424T010000Z
SUMMARY:The BrickWall Sports Bar & Grille
STATUS:CONFIRMED
END:VEVENT
BEGIN:VEVENT
UID:fd97e557-b9fc-443f-9a60-57bcd267bfab@fclive
DTSTAMP:20260420T040024Z
DTSTART:20260417T213000Z
DTEND:20260418T003000Z
SUMMARY:FatDaddy's Smokehouse and Grill
STATUS:CONFIRMED
END:VEVENT
BEGIN:VEVENT
UID:f3462f66-cfb7-4468-87f8-65076c28d0ac@fclive
DTSTAMP:20260420T040024Z
DTSTART:20260408T210000Z
DTEND:20260409T000000Z
SUMMARY:Red White & Brew
STATUS:CONFIRMED
END:VEVENT
BEGIN:VEVENT
UID:692721d4-7caa-4ce4-970a-77706809018f@fclive
DTSTAMP:20260420T040024Z
DTSTART:20260409T220000Z
DTEND:20260410T010000Z
SUMMARY:The BrickWall Sports Bar & Grille
STATUS:CONFIRMED
END:VEVENT
BEGIN:VEVENT
UID:37829465-a2c9-405e-bcd4-c33203e57ad9@fclive
DTSTAMP:20260420T040024Z
DTSTART:20260422T210000Z
DTEND:20260423T000000Z
SUMMARY:Red White & Brew
STATUS:CONFIRMED
END:VEVENT
BEGIN:VEVENT
UID:43fddda7-87a6-42fd-92ac-e3d4bdd14085@fclive
DTSTAMP:20260420T040024Z
DTSTART:20260421T210000Z
DTEND:20260422T000000Z
SUMMARY:Indian Pass Raw Bar
STATUS:CONFIRMED
END:VEVENT
BEGIN:VEVENT
UID:0f420fd6-6283-4464-8cc6-fc4da287930e@fclive
DTSTAMP:20260420T040024Z
DTSTART:20260430T220000Z
DTEND:20260501T010000Z
SUMMARY:Scallop RePUBlic
STATUS:CONFIRMED
END:VEVENT
END:VCALENDAR