BEGIN:VCALENDAR
VERSION:2.0
PRODID:-//FCLive//Events Calendar//EN
CALSCALE:GREGORIAN
METHOD:PUBLISH
X-WR-CALNAME:Krazyfish Grille Events
X-WR-TIMEZONE:UTC
BEGIN:VEVENT
UID:3bfe88bf-6529-4e2d-aa54-5cae7b122a82@fclive
DTSTAMP:20260420T063459Z
DTSTART:20260430T220000Z
DTEND:20260501T010000Z
SUMMARY:Hunter Wall
STATUS:CONFIRMED
END:VEVENT
END:VCALENDAR