BEGIN:VCALENDAR
VERSION:2.0
PRODID:-//FCLive//Events Calendar//EN
CALSCALE:GREGORIAN
METHOD:PUBLISH
X-WR-CALNAME:Kaitlin L Smith Events
X-WR-TIMEZONE:UTC
BEGIN:VEVENT
UID:700a39de-bc75-4b31-b0ef-334d70ce362e@fclive
DTSTAMP:20260420T035640Z
DTSTART:20260417T220000Z
DTEND:20260418T010000Z
SUMMARY:Scallop RePUBlic
STATUS:CONFIRMED
END:VEVENT
BEGIN:VEVENT
UID:d5ffc506-9e70-46ad-b68e-a4fc25132129@fclive
DTSTAMP:20260420T035640Z
DTSTART:20260508T220000Z
DTEND:20260509T010000Z
SUMMARY:Scallop RePUBlic
STATUS:CONFIRMED
END:VEVENT
END:VCALENDAR