BEGIN:VCALENDAR
VERSION:2.0
PRODID:-//FCLive//Events Calendar//EN
CALSCALE:GREGORIAN
METHOD:PUBLISH
X-WR-CALNAME:Jon White Events
X-WR-TIMEZONE:UTC
BEGIN:VEVENT
UID:1a9d269a-dd9e-4b4d-9a7e-e47f6a403faa@fclive
DTSTAMP:20260420T130952Z
DTSTART:20260424T220000Z
DTEND:20260425T010000Z
SUMMARY:Indian Pass Raw Bar
STATUS:CONFIRMED
END:VEVENT
END:VCALENDAR