BEGIN:VCALENDAR
VERSION:2.0
PRODID:-//FCLive//Events Calendar//EN
CALSCALE:GREGORIAN
METHOD:PUBLISH
X-WR-CALNAME:John Sutton Events
X-WR-TIMEZONE:UTC
BEGIN:VEVENT
UID:4e5cca80-6ac0-4985-ae7b-00eebc501e17@fclive
DTSTAMP:20260420T035936Z
DTSTART:20260409T230000Z
DTEND:20260410T020000Z
SUMMARY:Apalachicola Yacht Club
STATUS:CONFIRMED
END:VEVENT
BEGIN:VEVENT
UID:9589a7bf-41f4-4d54-a1ab-0169362dd986@fclive
DTSTAMP:20260420T035936Z
DTSTART:20260426T190000Z
DTEND:20260426T220000Z
SUMMARY:High Five Dive Bar
STATUS:CONFIRMED
END:VEVENT
BEGIN:VEVENT
UID:453c9e86-b7e6-46c2-90e5-26cdb069651e@fclive
DTSTAMP:20260420T035936Z
DTSTART:20260425T230000Z
DTEND:20260426T020000Z
SUMMARY:The Mill Mercantile & Social
STATUS:CONFIRMED
END:VEVENT
BEGIN:VEVENT
UID:71c8b99b-15c0-4053-bacb-7d44aa4f39f1@fclive
DTSTAMP:20260420T035936Z
DTSTART:20260412T170000Z
DTEND:20260412T210000Z
SUMMARY:Half Shell Dockside
STATUS:CONFIRMED
END:VEVENT
BEGIN:VEVENT
UID:e6e8f985-134f-4f61-abea-d02290dd9280@fclive
DTSTAMP:20260420T035936Z
DTSTART:20260423T230000Z
DTEND:20260424T020000Z
SUMMARY:Haughty Heron
STATUS:CONFIRMED
END:VEVENT
BEGIN:VEVENT
UID:8aef2730-d005-44ad-bca6-833380061fbb@fclive
DTSTAMP:20260420T035936Z
DTSTART:20260507T220000Z
DTEND:20260508T010000Z
SUMMARY:Scallop RePUBlic
STATUS:CONFIRMED
END:VEVENT
END:VCALENDAR