BEGIN:VCALENDAR
VERSION:2.0
PRODID:-//FCLive//Events Calendar//EN
CALSCALE:GREGORIAN
METHOD:PUBLISH
X-WR-CALNAME:JJ Marquez Events
X-WR-TIMEZONE:UTC
BEGIN:VEVENT
UID:44eca8c4-dfe9-4b9c-bacd-08ff99ca59e7@fclive
DTSTAMP:20260420T090607Z
DTSTART:20260412T150000Z
DTEND:20260412T180000Z
SUMMARY:The BrickWall Sports Bar & Grille
STATUS:CONFIRMED
END:VEVENT
BEGIN:VEVENT
UID:0c32ef6a-408d-4e89-b7b0-305941aea588@fclive
DTSTAMP:20260420T090607Z
DTSTART:20260417T220000Z
DTEND:20260418T020000Z
SUMMARY:Cone Heads 8020
STATUS:CONFIRMED
END:VEVENT
BEGIN:VEVENT
UID:1f90cfb2-e874-4382-b4c2-745c2f8c4ed0@fclive
DTSTAMP:20260420T090607Z
DTSTART:20260414T220000Z
DTEND:20260415T010000Z
SUMMARY:Indian Pass Raw Bar
STATUS:CONFIRMED
END:VEVENT
BEGIN:VEVENT
UID:be538458-4c09-42c6-bd9e-911a588a9ac5@fclive
DTSTAMP:20260420T090607Z
DTSTART:20260426T150000Z
DTEND:20260426T180000Z
SUMMARY:The BrickWall Sports Bar & Grille
STATUS:CONFIRMED
END:VEVENT
BEGIN:VEVENT
UID:76e56579-0919-492e-b738-b2846319baba@fclive
DTSTAMP:20260420T090607Z
DTSTART:20260406T210000Z
DTEND:20260407T010000Z
SUMMARY:Cone Heads 8020
STATUS:CONFIRMED
END:VEVENT
BEGIN:VEVENT
UID:1b69babe-8f94-44f8-95cd-bd638f6d3cf1@fclive
DTSTAMP:20260420T090607Z
DTSTART:20260404T220000Z
DTEND:20260405T020000Z
SUMMARY:Cone Heads 8020
STATUS:CONFIRMED
END:VEVENT
BEGIN:VEVENT
UID:93981e85-f22e-4082-a3d2-d9c8ae89ebe5@fclive
DTSTAMP:20260420T090607Z
DTSTART:20260405T150000Z
DTEND:20260405T180000Z
SUMMARY:The BrickWall Sports Bar & Grille
STATUS:CONFIRMED
END:VEVENT
BEGIN:VEVENT
UID:cfa32bf7-3db7-45c1-bfd0-dc66ec2a63a7@fclive
DTSTAMP:20260420T090607Z
DTSTART:20260413T210000Z
DTEND:20260414T010000Z
SUMMARY:Cone Heads 8020
STATUS:CONFIRMED
END:VEVENT
BEGIN:VEVENT
UID:226c0d75-21f2-45a7-b013-5564656040d9@fclive
DTSTAMP:20260420T090607Z
DTSTART:20260531T150000Z
DTEND:20260531T180000Z
SUMMARY:The BrickWall Sports Bar & Grille
STATUS:CONFIRMED
END:VEVENT
BEGIN:VEVENT
UID:e13e36be-01f4-4ce9-a025-695f05a82240@fclive
DTSTAMP:20260420T090607Z
DTSTART:20260503T150000Z
DTEND:20260503T180000Z
SUMMARY:The BrickWall Sports Bar & Grille
STATUS:CONFIRMED
END:VEVENT
BEGIN:VEVENT
UID:fefcc1fd-d531-431f-bd83-fa29ab687e27@fclive
DTSTAMP:20260420T090607Z
DTSTART:20260517T150000Z
DTEND:20260517T180000Z
SUMMARY:The BrickWall Sports Bar & Grille
STATUS:CONFIRMED
END:VEVENT
BEGIN:VEVENT
UID:87a0b4c9-9100-4d32-954b-6b86687aa3e1@fclive
DTSTAMP:20260420T090607Z
DTSTART:20260628T150000Z
DTEND:20260628T180000Z
SUMMARY:The BrickWall Sports Bar & Grille
STATUS:CONFIRMED
END:VEVENT
BEGIN:VEVENT
UID:2c7cf36e-3192-452b-a47e-7e7a6d4a8463@fclive
DTSTAMP:20260420T090607Z
DTSTART:20260614T150000Z
DTEND:20260614T180000Z
SUMMARY:The BrickWall Sports Bar & Grille
STATUS:CONFIRMED
END:VEVENT
BEGIN:VEVENT
UID:a646dfff-2cc0-47f5-9231-93833d282be3@fclive
DTSTAMP:20260420T090607Z
DTSTART:20260607T150000Z
DTEND:20260607T180000Z
SUMMARY:The BrickWall Sports Bar & Grille
STATUS:CONFIRMED
END:VEVENT
END:VCALENDAR