BEGIN:VCALENDAR
VERSION:2.0
PRODID:-//FCLive//Events Calendar//EN
CALSCALE:GREGORIAN
METHOD:PUBLISH
X-WR-CALNAME:Jason Byrd Events
X-WR-TIMEZONE:UTC
BEGIN:VEVENT
UID:b78a38c9-8a65-4470-85a2-adace4f4cec3@fclive
DTSTAMP:20260420T040742Z
DTSTART:20260620T220000Z
DTEND:20260621T010000Z
SUMMARY:Lookout Lounge & Package
STATUS:CONFIRMED
END:VEVENT
END:VCALENDAR