BEGIN:VCALENDAR
VERSION:2.0
PRODID:-//FCLive//Events Calendar//EN
CALSCALE:GREGORIAN
METHOD:PUBLISH
X-WR-CALNAME:Indian Pass Raw Bar Events
X-WR-TIMEZONE:UTC
BEGIN:VEVENT
UID:7906d799-df9d-4789-bd57-066311d400f5@fclive
DTSTAMP:20260420T013057Z
DTSTART:20260401T220000Z
DTEND:20260402T010000Z
SUMMARY:Mike English
STATUS:CONFIRMED
END:VEVENT
BEGIN:VEVENT
UID:cdbe640a-d363-4a83-a2a0-13bce255d872@fclive
DTSTAMP:20260420T013057Z
DTSTART:20260404T220000Z
DTEND:20260405T010000Z
SUMMARY:Dominic Milner
STATUS:CONFIRMED
END:VEVENT
BEGIN:VEVENT
UID:0f2a2b11-ef11-4b39-b3f1-19b339d812c7@fclive
DTSTAMP:20260420T013057Z
DTSTART:20260426T220000Z
DTEND:20260427T010000Z
SUMMARY:Dirt Road Sports
STATUS:CONFIRMED
END:VEVENT
BEGIN:VEVENT
UID:d495e3ea-9ca1-453b-bc6c-1ec8efa85867@fclive
DTSTAMP:20260420T013057Z
DTSTART:20260418T220000Z
DTEND:20260419T010000Z
SUMMARY:Chance Stanley
STATUS:CONFIRMED
END:VEVENT
BEGIN:VEVENT
UID:970dc3b9-44e3-44d5-ae30-2301c2f927b2@fclive
DTSTAMP:20260420T013057Z
DTSTART:20260430T220000Z
DTEND:20260501T010000Z
SUMMARY:Circus Mutt
STATUS:CONFIRMED
END:VEVENT
BEGIN:VEVENT
UID:7edbf96c-37fa-4432-8447-2d54df77bd5d@fclive
DTSTAMP:20260420T013057Z
DTSTART:20260409T220000Z
DTEND:20260410T010000Z
SUMMARY:TJ & Brad
STATUS:CONFIRMED
END:VEVENT
BEGIN:VEVENT
UID:f5fdee99-49a2-4e95-8498-2de19d9f136b@fclive
DTSTAMP:20260420T013057Z
DTSTART:20260429T220000Z
DTEND:20260430T010000Z
SUMMARY:Hot Mess
STATUS:CONFIRMED
END:VEVENT
BEGIN:VEVENT
UID:f758ba4b-0797-4a5a-a8e7-34a6bc959541@fclive
DTSTAMP:20260420T013057Z
DTSTART:20260412T220000Z
DTEND:20260413T010000Z
SUMMARY:Ryan Keefe
STATUS:CONFIRMED
END:VEVENT
BEGIN:VEVENT
UID:9f439c48-c02b-4440-ade2-4215ab0b5c5b@fclive
DTSTAMP:20260420T013057Z
DTSTART:20260415T220000Z
DTEND:20260416T010000Z
SUMMARY:Brett Stafford Smith
STATUS:CONFIRMED
END:VEVENT
BEGIN:VEVENT
UID:1f90cfb2-e874-4382-b4c2-745c2f8c4ed0@fclive
DTSTAMP:20260420T013057Z
DTSTART:20260414T220000Z
DTEND:20260415T010000Z
SUMMARY:JJ Marquez
STATUS:CONFIRMED
END:VEVENT
BEGIN:VEVENT
UID:74e8518c-cfad-433d-8328-767719a5db69@fclive
DTSTAMP:20260420T013057Z
DTSTART:20260425T220000Z
DTEND:20260426T010000Z
SUMMARY:David Dale
STATUS:CONFIRMED
END:VEVENT
BEGIN:VEVENT
UID:b55c62d2-3b74-42bb-a081-9c046baa2396@fclive
DTSTAMP:20260420T013057Z
DTSTART:20260410T220000Z
DTEND:20260411T010000Z
SUMMARY:The Smolderin’ Embers
STATUS:CONFIRMED
END:VEVENT
BEGIN:VEVENT
UID:ce9d32cc-8c95-4852-9a61-a0bd1e7e295a@fclive
DTSTAMP:20260420T013057Z
DTSTART:20260405T220000Z
DTEND:20260406T010000Z
SUMMARY:Big Daddy Karaoke
DESCRIPTION:Big Daddy Karaoke
STATUS:CONFIRMED
END:VEVENT
BEGIN:VEVENT
UID:68ae937b-504e-44e7-a9dc-a7e552c12078@fclive
DTSTAMP:20260420T013057Z
DTSTART:20260419T220000Z
DTEND:20260420T010000Z
SUMMARY:Big Daddy Karaoke
DESCRIPTION:Big Daddy Karaoke
STATUS:CONFIRMED
END:VEVENT
BEGIN:VEVENT
UID:8922856b-76b9-4e75-9cc2-acdeec7b2016@fclive
DTSTAMP:20260420T013057Z
DTSTART:20260423T220000Z
DTEND:20260424T010000Z
SUMMARY:Barry BigBear Henson
STATUS:CONFIRMED
END:VEVENT
BEGIN:VEVENT
UID:b8dea178-309c-4a18-b700-ae9dbc013469@fclive
DTSTAMP:20260420T013057Z
DTSTART:20260417T220000Z
DTEND:20260418T010000Z
SUMMARY:Evan Barber
STATUS:CONFIRMED
END:VEVENT
BEGIN:VEVENT
UID:7c136e98-d5ee-45c0-bdd8-bf039270ab8d@fclive
DTSTAMP:20260420T013057Z
DTSTART:20260408T220000Z
DTEND:20260409T010000Z
SUMMARY:Ariel Casey
STATUS:CONFIRMED
END:VEVENT
BEGIN:VEVENT
UID:32525508-9226-4465-befc-cacbd2afb42e@fclive
DTSTAMP:20260420T013057Z
DTSTART:20260416T220000Z
DTEND:20260417T010000Z
SUMMARY:The Curry’s
STATUS:CONFIRMED
END:VEVENT
BEGIN:VEVENT
UID:80707b25-cec0-45e0-87f8-cd969ac00b12@fclive
DTSTAMP:20260420T013057Z
DTSTART:20260403T220000Z
DTEND:20260404T010000Z
SUMMARY:Caleb King
STATUS:CONFIRMED
END:VEVENT
BEGIN:VEVENT
UID:99f21ca6-be52-4f35-8951-d105f3c1f982@fclive
DTSTAMP:20260420T013057Z
DTSTART:20260411T220000Z
DTEND:20260412T010000Z
SUMMARY:Mason Hill
DESCRIPTION:Mason Hill
STATUS:CONFIRMED
END:VEVENT
BEGIN:VEVENT
UID:b1619f9c-72e9-46be-9d25-da97ec029b35@fclive
DTSTAMP:20260420T013057Z
DTSTART:20260407T220000Z
DTEND:20260408T010000Z
SUMMARY:David McMahon
STATUS:CONFIRMED
END:VEVENT
BEGIN:VEVENT
UID:0235a228-ff14-43b8-b3ae-db304e6dd774@fclive
DTSTAMP:20260420T013057Z
DTSTART:20260422T220000Z
DTEND:20260423T010000Z
SUMMARY:Lloyd Carter Duo
DESCRIPTION:Lloyd Carter Duo
STATUS:CONFIRMED
END:VEVENT
BEGIN:VEVENT
UID:43fddda7-87a6-42fd-92ac-e3d4bdd14085@fclive
DTSTAMP:20260420T013057Z
DTSTART:20260421T210000Z
DTEND:20260422T000000Z
SUMMARY:Leanne Carter
STATUS:CONFIRMED
END:VEVENT
BEGIN:VEVENT
UID:1a9d269a-dd9e-4b4d-9a7e-e47f6a403faa@fclive
DTSTAMP:20260420T013057Z
DTSTART:20260424T220000Z
DTEND:20260425T010000Z
SUMMARY:Jon White
STATUS:CONFIRMED
END:VEVENT
BEGIN:VEVENT
UID:89ec8280-98d0-4521-b40e-7277a357da70@fclive
DTSTAMP:20260420T013057Z
DTSTART:20260523T220000Z
DTEND:20260524T010000Z
SUMMARY:Big Daddy Karaoke
DESCRIPTION:Big Daddy Karaoke
STATUS:CONFIRMED
END:VEVENT
BEGIN:VEVENT
UID:23be465f-ac62-4c42-b19d-6a13387cf745@fclive
DTSTAMP:20260420T013057Z
DTSTART:20260609T220000Z
DTEND:20260610T010000Z
SUMMARY:Rylee Austin
STATUS:CONFIRMED
END:VEVENT
END:VCALENDAR