BEGIN:VCALENDAR
VERSION:2.0
PRODID:-//FCLive//Events Calendar//EN
CALSCALE:GREGORIAN
METHOD:PUBLISH
X-WR-CALNAME:Hunter Wall Events
X-WR-TIMEZONE:UTC
BEGIN:VEVENT
UID:bed7e287-cff8-4863-8ad7-2f378ba7df27@fclive
DTSTAMP:20260420T035926Z
DTSTART:20260411T000000Z
DTEND:20260411T030000Z
SUMMARY:Haughty Heron
STATUS:CONFIRMED
END:VEVENT
BEGIN:VEVENT
UID:1a948aee-1ff1-46be-b013-522c33bd401b@fclive
DTSTAMP:20260420T035926Z
DTSTART:20260425T220000Z
DTEND:20260426T010000Z
SUMMARY:Scallop RePUBlic
STATUS:CONFIRMED
END:VEVENT
BEGIN:VEVENT
UID:3bfe88bf-6529-4e2d-aa54-5cae7b122a82@fclive
DTSTAMP:20260420T035926Z
DTSTART:20260430T220000Z
DTEND:20260501T010000Z
SUMMARY:Krazyfish Grille
STATUS:CONFIRMED
END:VEVENT
BEGIN:VEVENT
UID:29fc02fd-c1da-47e3-b8ce-e0be768e09b7@fclive
DTSTAMP:20260420T035926Z
DTSTART:20260418T220000Z
DTEND:20260419T010000Z
SUMMARY:Red White & Brew
STATUS:CONFIRMED
END:VEVENT
END:VCALENDAR