BEGIN:VCALENDAR
VERSION:2.0
PRODID:-//FCLive//Events Calendar//EN
CALSCALE:GREGORIAN
METHOD:PUBLISH
X-WR-CALNAME:Hot Mess Events
X-WR-TIMEZONE:UTC
BEGIN:VEVENT
UID:f5fdee99-49a2-4e95-8498-2de19d9f136b@fclive
DTSTAMP:20260420T040018Z
DTSTART:20260429T220000Z
DTEND:20260430T010000Z
SUMMARY:Indian Pass Raw Bar
STATUS:CONFIRMED
END:VEVENT
BEGIN:VEVENT
UID:92cc61ef-58ed-4696-a399-ca153c87e3aa@fclive
DTSTAMP:20260420T040018Z
DTSTART:20260403T220000Z
DTEND:20260404T010000Z
SUMMARY:Apalachicola Yacht Club
STATUS:CONFIRMED
END:VEVENT
END:VCALENDAR