BEGIN:VCALENDAR
VERSION:2.0
PRODID:-//FCLive//Events Calendar//EN
CALSCALE:GREGORIAN
METHOD:PUBLISH
X-WR-CALNAME:High Five Dive Bar Events
X-WR-TIMEZONE:UTC
BEGIN:VEVENT
UID:9589a7bf-41f4-4d54-a1ab-0169362dd986@fclive
DTSTAMP:20260420T012404Z
DTSTART:20260426T190000Z
DTEND:20260426T220000Z
SUMMARY:John Sutton
STATUS:CONFIRMED
END:VEVENT
BEGIN:VEVENT
UID:c037eec1-1012-4227-aa77-1c7cfed3ed88@fclive
DTSTAMP:20260420T012404Z
DTSTART:20260419T190000Z
DTEND:20260419T210000Z
SUMMARY:Scratch 2020
STATUS:CONFIRMED
END:VEVENT
BEGIN:VEVENT
UID:90cfb348-4bd4-4671-8531-44af7c957ca6@fclive
DTSTAMP:20260420T012404Z
DTSTART:20260417T230000Z
DTEND:20260418T020000Z
SUMMARY:Sticky Tim
STATUS:CONFIRMED
END:VEVENT
BEGIN:VEVENT
UID:b2c7e5d8-4695-4113-a27c-460cf7b5f912@fclive
DTSTAMP:20260420T012404Z
DTSTART:20260403T230000Z
DTEND:20260404T020000Z
SUMMARY:Ariel Casey Duo
DESCRIPTION:Ariel Casey Duo
STATUS:CONFIRMED
END:VEVENT
BEGIN:VEVENT
UID:9c801091-e6d4-46cc-9115-511f02d03ce8@fclive
DTSTAMP:20260420T012404Z
DTSTART:20260418T230000Z
DTEND:20260419T020000Z
SUMMARY:The Whatnots
STATUS:CONFIRMED
END:VEVENT
BEGIN:VEVENT
UID:d75fdf30-ee80-477e-b12f-59c744d14786@fclive
DTSTAMP:20260420T012404Z
DTSTART:20260404T183000Z
DTEND:20260404T213000Z
SUMMARY:Easton Brice
STATUS:CONFIRMED
END:VEVENT
BEGIN:VEVENT
UID:8b4e99ee-8ea6-4a6f-8acb-6b5a7f32cc28@fclive
DTSTAMP:20260420T012404Z
DTSTART:20260404T230000Z
DTEND:20260405T020000Z
SUMMARY:Flabbergasted Band
STATUS:CONFIRMED
END:VEVENT
BEGIN:VEVENT
UID:2461eb1b-4ada-4d25-9d69-6dba1b0ec671@fclive
DTSTAMP:20260420T012404Z
DTSTART:20260411T230000Z
DTEND:20260412T020000Z
SUMMARY:Nicole Rayne
STATUS:CONFIRMED
END:VEVENT
BEGIN:VEVENT
UID:75e77904-8eb0-4d98-a665-6dd81b737351@fclive
DTSTAMP:20260420T012404Z
DTSTART:20260416T220000Z
DTEND:20260417T010000Z
SUMMARY:Sean Williams
STATUS:CONFIRMED
END:VEVENT
BEGIN:VEVENT
UID:14a1031d-a8e4-4402-8c75-a54fa38da63a@fclive
DTSTAMP:20260420T012404Z
DTSTART:20260418T190000Z
DTEND:20260418T220000Z
SUMMARY:Nicole & Josh
STATUS:CONFIRMED
END:VEVENT
BEGIN:VEVENT
UID:12d197ca-bad7-4804-b386-db54574eb3fe@fclive
DTSTAMP:20260420T012404Z
DTSTART:20260412T190000Z
DTEND:20260412T220000Z
SUMMARY:Sean Brewer
STATUS:CONFIRMED
END:VEVENT
BEGIN:VEVENT
UID:03b0bbfe-766d-4410-9aad-ed9d054ddb4c@fclive
DTSTAMP:20260420T012404Z
DTSTART:20260409T220000Z
DTEND:20260410T010000Z
SUMMARY:Sean Williams
STATUS:CONFIRMED
END:VEVENT
BEGIN:VEVENT
UID:45040b40-fb32-4ffa-8288-efd67d039c0e@fclive
DTSTAMP:20260420T012404Z
DTSTART:20260410T230000Z
DTEND:20260411T020000Z
SUMMARY:A Wedding Eve Celebration
DESCRIPTION:A Wedding Eve Celebration
STATUS:CONFIRMED
END:VEVENT
END:VCALENDAR