BEGIN:VCALENDAR
VERSION:2.0
PRODID:-//FCLive//Events Calendar//EN
CALSCALE:GREGORIAN
METHOD:PUBLISH
X-WR-CALNAME:Haughty Heron Events
X-WR-TIMEZONE:UTC
BEGIN:VEVENT
UID:3aed288f-7a59-4dab-953d-08b15d42efc4@fclive
DTSTAMP:20260420T012354Z
DTSTART:20260412T000000Z
DTEND:20260412T030000Z
SUMMARY:Dustin Herring
STATUS:CONFIRMED
END:VEVENT
BEGIN:VEVENT
UID:96f0aa27-6490-4e4c-84d3-2ba6ef76b020@fclive
DTSTAMP:20260420T012354Z
DTSTART:20260405T000000Z
DTEND:20260405T030000Z
SUMMARY:Tony Odonelle
DESCRIPTION:Tony Odonelle
STATUS:CONFIRMED
END:VEVENT
BEGIN:VEVENT
UID:bed7e287-cff8-4863-8ad7-2f378ba7df27@fclive
DTSTAMP:20260420T012354Z
DTSTART:20260411T000000Z
DTEND:20260411T030000Z
SUMMARY:Hunter Wall
STATUS:CONFIRMED
END:VEVENT
BEGIN:VEVENT
UID:8579e4b7-100f-4a37-b1ec-5698f97f89fd@fclive
DTSTAMP:20260420T012354Z
DTSTART:20260430T230000Z
DTEND:20260501T020000Z
SUMMARY:Sticky Tim
STATUS:CONFIRMED
END:VEVENT
BEGIN:VEVENT
UID:fbf32181-4ec8-4391-aa24-67b1fcb37258@fclive
DTSTAMP:20260420T012354Z
DTSTART:20260415T220000Z
DTEND:20260416T000000Z
SUMMARY:Trivia Night
DESCRIPTION:Trivia Night
STATUS:CONFIRMED
END:VEVENT
BEGIN:VEVENT
UID:257ff391-9b31-4ae8-a4b0-6c287743aa00@fclive
DTSTAMP:20260420T012354Z
DTSTART:20260426T000000Z
DTEND:20260426T030000Z
SUMMARY:David Martin
STATUS:CONFIRMED
END:VEVENT
BEGIN:VEVENT
UID:1ed7c089-a4ba-4356-be08-6f0e2f7cdc7f@fclive
DTSTAMP:20260420T012354Z
DTSTART:20260419T000000Z
DTEND:20260419T030000Z
SUMMARY:Dylan Kelley
STATUS:CONFIRMED
END:VEVENT
BEGIN:VEVENT
UID:ac191839-5fe6-49fa-a192-88ad31bd7a49@fclive
DTSTAMP:20260420T012354Z
DTSTART:20260408T223000Z
DTEND:20260409T003000Z
SUMMARY:Music Bingo w/ Mic
DESCRIPTION:Music Bingo w/ Mic
STATUS:CONFIRMED
END:VEVENT
BEGIN:VEVENT
UID:7f1d97ae-c699-4b37-8338-8a9bbf22f5c6@fclive
DTSTAMP:20260420T012354Z
DTSTART:20260417T230000Z
DTEND:20260418T020000Z
SUMMARY:Anna Wescoat
STATUS:CONFIRMED
END:VEVENT
BEGIN:VEVENT
UID:3e1bc473-b7c0-45dc-af89-a03c75f0ecde@fclive
DTSTAMP:20260420T012354Z
DTSTART:20260402T230000Z
DTEND:20260403T010000Z
SUMMARY:David McMahon
STATUS:CONFIRMED
END:VEVENT
BEGIN:VEVENT
UID:24412ad4-8173-47b8-a59d-a40408149682@fclive
DTSTAMP:20260420T012354Z
DTSTART:20260422T223000Z
DTEND:20260423T013000Z
SUMMARY:Open Mic
DESCRIPTION:Open Mic
STATUS:CONFIRMED
END:VEVENT
BEGIN:VEVENT
UID:9f827d0a-4071-4edb-bb9e-b17003d265b1@fclive
DTSTAMP:20260420T012354Z
DTSTART:20260425T000000Z
DTEND:20260425T030000Z
SUMMARY:Flabbergasted Band
STATUS:CONFIRMED
END:VEVENT
BEGIN:VEVENT
UID:bc9acaab-412a-4967-89a4-c294489675e2@fclive
DTSTAMP:20260420T012354Z
DTSTART:20260416T230000Z
DTEND:20260417T020000Z
SUMMARY:Evan Barber
STATUS:CONFIRMED
END:VEVENT
BEGIN:VEVENT
UID:e6e8f985-134f-4f61-abea-d02290dd9280@fclive
DTSTAMP:20260420T012354Z
DTSTART:20260423T230000Z
DTEND:20260424T020000Z
SUMMARY:John Sutton
STATUS:CONFIRMED
END:VEVENT
BEGIN:VEVENT
UID:8a9150b6-e170-40d8-8a0c-d02703fd7d16@fclive
DTSTAMP:20260420T012354Z
DTSTART:20260404T000000Z
DTEND:20260404T020000Z
SUMMARY:Stevie Monce
STATUS:CONFIRMED
END:VEVENT
BEGIN:VEVENT
UID:d41ca05f-35aa-4384-97bf-f684c1db3d1a@fclive
DTSTAMP:20260420T012354Z
DTSTART:20260409T230000Z
DTEND:20260410T020000Z
SUMMARY:Chip Thompson
STATUS:CONFIRMED
END:VEVENT
BEGIN:VEVENT
UID:dcec7d4a-31d5-47e8-b578-15293106a491@fclive
DTSTAMP:20260420T012354Z
DTSTART:20260515T230000Z
DTEND:20260516T020000Z
SUMMARY:Bo Spring Band
STATUS:CONFIRMED
END:VEVENT
BEGIN:VEVENT
UID:17c9b7ae-b7b7-4af0-b449-15be7652029f@fclive
DTSTAMP:20260420T012354Z
DTSTART:20260503T000000Z
DTEND:20260503T020000Z
SUMMARY:Riley Anderson
STATUS:CONFIRMED
END:VEVENT
BEGIN:VEVENT
UID:a2a104d1-3d65-4fda-b931-57935b881e74@fclive
DTSTAMP:20260420T012354Z
DTSTART:20260502T000000Z
DTEND:20260502T030000Z
SUMMARY:Stevie Monce
STATUS:CONFIRMED
END:VEVENT
END:VCALENDAR