BEGIN:VCALENDAR
VERSION:2.0
PRODID:-//FCLive//Events Calendar//EN
CALSCALE:GREGORIAN
METHOD:PUBLISH
X-WR-CALNAME:Frank Jones Events
X-WR-TIMEZONE:UTC
BEGIN:VEVENT
UID:3502f5e2-ce49-4cea-8d44-52160925c88a@fclive
DTSTAMP:20260420T035640Z
DTSTART:20260501T230000Z
DTEND:20260502T020000Z
SUMMARY:Fathoms Restaurant
STATUS:CONFIRMED
END:VEVENT
END:VCALENDAR