BEGIN:VCALENDAR
VERSION:2.0
PRODID:-//FCLive//Events Calendar//EN
CALSCALE:GREGORIAN
METHOD:PUBLISH
X-WR-CALNAME:Flabbergasted Band Events
X-WR-TIMEZONE:UTC
BEGIN:VEVENT
UID:8b4e99ee-8ea6-4a6f-8acb-6b5a7f32cc28@fclive
DTSTAMP:20260420T040302Z
DTSTART:20260404T230000Z
DTEND:20260405T020000Z
SUMMARY:High Five Dive Bar
STATUS:CONFIRMED
END:VEVENT
BEGIN:VEVENT
UID:9f827d0a-4071-4edb-bb9e-b17003d265b1@fclive
DTSTAMP:20260420T040302Z
DTSTART:20260425T000000Z
DTEND:20260425T030000Z
SUMMARY:Haughty Heron
STATUS:CONFIRMED
END:VEVENT
END:VCALENDAR