BEGIN:VCALENDAR
VERSION:2.0
PRODID:-//FCLive//Events Calendar//EN
CALSCALE:GREGORIAN
METHOD:PUBLISH
X-WR-CALNAME:Fathoms Restaurant Events
X-WR-TIMEZONE:UTC
BEGIN:VEVENT
UID:82b3e291-7d80-476a-a36d-370b6bcb0d27@fclive
DTSTAMP:20260420T012411Z
DTSTART:20260412T180000Z
DTEND:20260412T210000Z
SUMMARY:Evan Barber
STATUS:CONFIRMED
END:VEVENT
BEGIN:VEVENT
UID:50be31b5-8c02-4083-b9b7-518c455285fd@fclive
DTSTAMP:20260420T012411Z
DTSTART:20260417T230000Z
DTEND:20260418T030000Z
SUMMARY:Public Address
STATUS:CONFIRMED
END:VEVENT
BEGIN:VEVENT
UID:39f7ff11-cd96-4822-bdd2-931d772d55ab@fclive
DTSTAMP:20260420T012411Z
DTSTART:20260411T230000Z
DTEND:20260412T020000Z
SUMMARY:Keal Franklin Band
STATUS:CONFIRMED
END:VEVENT
BEGIN:VEVENT
UID:27c692d6-5572-4a6c-a171-a946cc47ad23@fclive
DTSTAMP:20260420T012411Z
DTSTART:20260418T230000Z
DTEND:20260419T020000Z
SUMMARY:Kettle Black
STATUS:CONFIRMED
END:VEVENT
BEGIN:VEVENT
UID:af5704b4-2bc8-4995-9770-d92555bc9f31@fclive
DTSTAMP:20260420T012411Z
DTSTART:20260410T230000Z
DTEND:20260411T020000Z
SUMMARY:Wild Ginger
STATUS:CONFIRMED
END:VEVENT
BEGIN:VEVENT
UID:2fb9134b-e25b-49fe-8562-f4ec90bf2f09@fclive
DTSTAMP:20260420T012411Z
DTSTART:20260419T180000Z
DTEND:20260419T220000Z
SUMMARY:Sticky Tim
STATUS:CONFIRMED
END:VEVENT
BEGIN:VEVENT
UID:3502f5e2-ce49-4cea-8d44-52160925c88a@fclive
DTSTAMP:20260420T012411Z
DTSTART:20260501T230000Z
DTEND:20260502T020000Z
SUMMARY:Frank Jones
STATUS:CONFIRMED
END:VEVENT
BEGIN:VEVENT
UID:46d01f84-1c44-45a8-94d8-74653a43f4d5@fclive
DTSTAMP:20260420T012411Z
DTSTART:20260502T230000Z
DTEND:20260503T020000Z
SUMMARY:Sawgrass Zoo
STATUS:CONFIRMED
END:VEVENT
END:VCALENDAR