BEGIN:VCALENDAR
VERSION:2.0
PRODID:-//FCLive//Events Calendar//EN
CALSCALE:GREGORIAN
METHOD:PUBLISH
X-WR-CALNAME:Evan Barber Events
X-WR-TIMEZONE:UTC
BEGIN:VEVENT
UID:8d036b60-d5c9-4295-915e-3150bc9a3f5a@fclive
DTSTAMP:20260420T040030Z
DTSTART:20260424T220000Z
DTEND:20260425T010000Z
SUMMARY:Scallop RePUBlic
DESCRIPTION:Evan Barber & the Dead Gamblers
STATUS:CONFIRMED
END:VEVENT
BEGIN:VEVENT
UID:82b3e291-7d80-476a-a36d-370b6bcb0d27@fclive
DTSTAMP:20260420T040030Z
DTSTART:20260412T180000Z
DTEND:20260412T210000Z
SUMMARY:Fathoms Restaurant
STATUS:CONFIRMED
END:VEVENT
BEGIN:VEVENT
UID:b8dea178-309c-4a18-b700-ae9dbc013469@fclive
DTSTAMP:20260420T040030Z
DTSTART:20260417T220000Z
DTEND:20260418T010000Z
SUMMARY:Indian Pass Raw Bar
STATUS:CONFIRMED
END:VEVENT
BEGIN:VEVENT
UID:bc9acaab-412a-4967-89a4-c294489675e2@fclive
DTSTAMP:20260420T040030Z
DTSTART:20260416T230000Z
DTEND:20260417T020000Z
SUMMARY:Haughty Heron
STATUS:CONFIRMED
END:VEVENT
BEGIN:VEVENT
UID:6e3770e0-7999-4d67-a0d2-d23f4cdc9b74@fclive
DTSTAMP:20260420T040030Z
DTSTART:20260403T220000Z
DTEND:20260404T010000Z
SUMMARY:Scallop RePUBlic
STATUS:CONFIRMED
END:VEVENT
END:VCALENDAR