BEGIN:VCALENDAR
VERSION:2.0
PRODID:-//FCLive//Events Calendar//EN
CALSCALE:GREGORIAN
METHOD:PUBLISH
X-WR-CALNAME:Dominic Milner Events
X-WR-TIMEZONE:UTC
BEGIN:VEVENT
UID:bc6cabd7-501a-490b-91bb-112b593ce8e4@fclive
DTSTAMP:20260420T012944Z
DTSTART:20260419T160000Z
DTEND:20260419T190000Z
SUMMARY:Red Pirate Family Grill & Oyster Bar
STATUS:CONFIRMED
END:VEVENT
BEGIN:VEVENT
UID:cdbe640a-d363-4a83-a2a0-13bce255d872@fclive
DTSTAMP:20260420T012944Z
DTSTART:20260404T220000Z
DTEND:20260405T010000Z
SUMMARY:Indian Pass Raw Bar
STATUS:CONFIRMED
END:VEVENT
BEGIN:VEVENT
UID:a71eec65-a37e-411d-88c7-c27cad9742b8@fclive
DTSTAMP:20260420T012944Z
DTSTART:20260426T180000Z
DTEND:20260426T210000Z
SUMMARY:Blue Parrot Ocean Front Cafe
STATUS:CONFIRMED
END:VEVENT
END:VCALENDAR