BEGIN:VCALENDAR
VERSION:2.0
PRODID:-//FCLive//Events Calendar//EN
CALSCALE:GREGORIAN
METHOD:PUBLISH
X-WR-CALNAME:Dirt Road Sports Events
X-WR-TIMEZONE:UTC
BEGIN:VEVENT
UID:0f2a2b11-ef11-4b39-b3f1-19b339d812c7@fclive
DTSTAMP:20260420T130947Z
DTSTART:20260426T220000Z
DTEND:20260427T010000Z
SUMMARY:Indian Pass Raw Bar
STATUS:CONFIRMED
END:VEVENT
BEGIN:VEVENT
UID:96c813e9-14ed-4499-b462-88ede4ece1a1@fclive
DTSTAMP:20260420T130947Z
DTSTART:20260410T230000Z
DTEND:20260411T020000Z
SUMMARY:Apalachicola Yacht Club
DESCRIPTION:Dirt Road Sports
STATUS:CONFIRMED
END:VEVENT
END:VCALENDAR