BEGIN:VCALENDAR
VERSION:2.0
PRODID:-//FCLive//Events Calendar//EN
CALSCALE:GREGORIAN
METHOD:PUBLISH
X-WR-CALNAME:David Martin Events
X-WR-TIMEZONE:UTC
BEGIN:VEVENT
UID:257ff391-9b31-4ae8-a4b0-6c287743aa00@fclive
DTSTAMP:20260420T035639Z
DTSTART:20260426T000000Z
DTEND:20260426T030000Z
SUMMARY:Haughty Heron
STATUS:CONFIRMED
END:VEVENT
END:VCALENDAR