BEGIN:VCALENDAR
VERSION:2.0
PRODID:-//FCLive//Events Calendar//EN
CALSCALE:GREGORIAN
METHOD:PUBLISH
X-WR-CALNAME:David Dale Events
X-WR-TIMEZONE:UTC
BEGIN:VEVENT
UID:74e8518c-cfad-433d-8328-767719a5db69@fclive
DTSTAMP:20260420T035529Z
DTSTART:20260425T220000Z
DTEND:20260426T010000Z
SUMMARY:Indian Pass Raw Bar
STATUS:CONFIRMED
END:VEVENT
END:VCALENDAR