BEGIN:VCALENDAR
VERSION:2.0
PRODID:-//FCLive//Events Calendar//EN
CALSCALE:GREGORIAN
METHOD:PUBLISH
X-WR-CALNAME:Dashboard Chihuahuas Events
X-WR-TIMEZONE:UTC
BEGIN:VEVENT
UID:cbfc4347-3f37-4a0a-9e17-d00fcfcd9deb@fclive
DTSTAMP:20260420T040224Z
DTSTART:20260425T220000Z
DTEND:20260426T010000Z
SUMMARY:Lookout Lounge & Package
STATUS:CONFIRMED
END:VEVENT
END:VCALENDAR