BEGIN:VCALENDAR
VERSION:2.0
PRODID:-//FCLive//Events Calendar//EN
CALSCALE:GREGORIAN
METHOD:PUBLISH
X-WR-CALNAME:Circus Mutt Events
X-WR-TIMEZONE:UTC
BEGIN:VEVENT
UID:970dc3b9-44e3-44d5-ae30-2301c2f927b2@fclive
DTSTAMP:20260420T035635Z
DTSTART:20260430T220000Z
DTEND:20260501T010000Z
SUMMARY:Indian Pass Raw Bar
STATUS:CONFIRMED
END:VEVENT
END:VCALENDAR