BEGIN:VCALENDAR
VERSION:2.0
PRODID:-//FCLive//Events Calendar//EN
CALSCALE:GREGORIAN
METHOD:PUBLISH
X-WR-CALNAME:Chicken Phat Events
X-WR-TIMEZONE:UTC
BEGIN:VEVENT
UID:7d0e2ee0-9a29-4001-871d-21d4d2e7ce12@fclive
DTSTAMP:20260422T093526Z
DTSTART:20260627T230000Z
DTEND:20260628T020000Z
SUMMARY:Apalachicola Yacht Club
STATUS:CONFIRMED
END:VEVENT
END:VCALENDAR