BEGIN:VCALENDAR
VERSION:2.0
PRODID:-//FCLive//Events Calendar//EN
CALSCALE:GREGORIAN
METHOD:PUBLISH
X-WR-CALNAME:Bo Spring Band Events
X-WR-TIMEZONE:UTC
BEGIN:VEVENT
UID:a19b7595-215a-4b46-be67-c8bb36918888@fclive
DTSTAMP:20260420T040056Z
DTSTART:20260425T230000Z
DTEND:20260426T020000Z
SUMMARY:Apalachicola Yacht Club
STATUS:CONFIRMED
END:VEVENT
BEGIN:VEVENT
UID:dcec7d4a-31d5-47e8-b578-15293106a491@fclive
DTSTAMP:20260420T040056Z
DTSTART:20260515T230000Z
DTEND:20260516T020000Z
SUMMARY:Haughty Heron
STATUS:CONFIRMED
END:VEVENT
BEGIN:VEVENT
UID:ab25a655-12b8-4e94-bfc0-9e70db2b1294@fclive
DTSTAMP:20260420T040056Z
DTSTART:20260523T230000Z
DTEND:20260524T020000Z
SUMMARY:Apalachicola Yacht Club
STATUS:CONFIRMED
END:VEVENT
BEGIN:VEVENT
UID:ea7f63d3-f7cf-444c-b93a-ad2bc32379e5@fclive
DTSTAMP:20260420T040056Z
DTSTART:20260501T230000Z
DTEND:20260502T020000Z
SUMMARY:Scallop RePUBlic
STATUS:CONFIRMED
END:VEVENT
END:VCALENDAR